BEGIN:VCALENDAR
VERSION:2.0
PRODID:-//ChamberMaster//Event Calendar 2.0//EN
METHOD:PUBLISH
X-PUBLISHED-TTL:P3D
REFRESH-INTERVAL:P3D
CALSCALE:GREGORIAN
BEGIN:VEVENT
DTSTART:20170404T230000Z
DTEND:20170405T010000Z
X-MICROSOFT-CDO-ALLDAYEVENT:FALSE
SUMMARY:The Music Hall Loft presents: Extraordinary Cinema featuring I Am Not Your Negro
DESCRIPTION:Back by popular demand! Using the unfinished final manuscript of writer James Baldwin\, this documentary by Raoul Peck delves into the legacy of Malcolm X\, Martin Luther King Jr.\, and Medgar Evers and their impact on what it means to be black in America.
X-ALT-DESC;FMTTYPE=text/html:Back by popular demand! Using the unfinished final manuscript of writer James Baldwin\, this documentary by Raoul Peck delves into the legacy of Malcolm X\, Martin Luther King Jr.\, and Medgar Evers and their impact on what it means to be black in America.
LOCATION:The Music Hall Loft 131 Congress Street Portsmouth\, NH
UID:e.1659.30289
SEQUENCE:3
DTSTAMP:20260421T132438Z
URL:https://business.portsmouthchamber.org/events/details/the-music-hall-loft-presents-extraordinary-cinema-featuring-i-am-not-your-negro-30289
END:VEVENT

END:VCALENDAR
