BEGIN:VCALENDAR
VERSION:2.0
PRODID:-//ChamberMaster//Event Calendar 2.0//EN
METHOD:PUBLISH
X-PUBLISHED-TTL:P3D
REFRESH-INTERVAL:P3D
CALSCALE:GREGORIAN
BEGIN:VEVENT
DTSTART:20170407T230000Z
DTEND:20170408T010000Z
X-MICROSOFT-CDO-ALLDAYEVENT:FALSE
SUMMARY:The Music Hall Loft presents: Extraordinary Cinema featuring Maya Angelou: And Still I Rise
DESCRIPTION:The first film to be made about the incomparable Maya Angelou. The film presents her incredible journey\, shedding light on the untold aspects of her life with remarkable unmatched access. From her upbringing in the Depression-era South to her work with Malcolm X in Ghana to her inaugural poem for President Bill Clinton\, the film takes us on an incredible journey through the life of a true American icon.
X-ALT-DESC;FMTTYPE=text/html:The first film to be made about the incomparable Maya Angelou. The film presents her incredible journey\, shedding light on the untold aspects of her life with remarkable unmatched access. From her upbringing in the Depression-era South to her work with Malcolm X in Ghana to her inaugural poem for President Bill Clinton\, the film takes us on an incredible journey through the life of a true American icon.
LOCATION:The Music Hall Loft 131 Congress Street Portsmouth\, NH
UID:e.1659.30288
SEQUENCE:3
DTSTAMP:20260421T132438Z
URL:https://business.portsmouthchamber.org/events/details/the-music-hall-loft-presents-extraordinary-cinema-featuring-maya-angelou-and-still-i-rise-30288
END:VEVENT

END:VCALENDAR
