BEGIN:VCALENDAR
VERSION:2.0
PRODID:-//ChamberMaster//Event Calendar 2.0//EN
METHOD:PUBLISH
X-PUBLISHED-TTL:P3D
REFRESH-INTERVAL:P3D
CALSCALE:GREGORIAN
BEGIN:VEVENT
DTSTART:20170409T000000Z
DTEND:20170409T013000Z
X-MICROSOFT-CDO-ALLDAYEVENT:FALSE
SUMMARY:The Music Hall Loft presents: Hilarity featuring Emma Willmann
DESCRIPTION:Emma Willmann is one of the New York scene's fast risers. Her credits are excellent despite that she's fairly new in comic years.  In the past two years alone\, she was featured in Just for Laughs New Faces\, on the cover of Time Out New York as one of 10 Funniest Women in New York featured in Elle Magazine\, passed at the NY Comedy Cellar\, and all the other top clubs in NYC\, featured in 8 NACAS\, headlined her own sold out show in The New York Comedy Festival\, performed at The Bridgetown Comedy Festival\, appeared in a commercial for Dear Kate Underwear\, and became a regular on SiriusXM Raw Dog\, landing her own monthly show and becoming a regular guest host on the popular SiriusXM Stars AM show Wake Up with Taylor! she also appeared on FuseTV and made her late night debut The Late Show with Stephen Colbert.
X-ALT-DESC;FMTTYPE=text/html:Emma Willmann is one of the New York scene&rsquo\;s fast risers. Her credits are excellent despite that she&rsquo\;s fairly new in comic years. &nbsp\;In the past two years alone\, she was featured in Just for Laughs New Faces\, on the cover of Time Out New York as one of 10 Funniest Women in New York featured in Elle Magazine\, passed at the NY Comedy Cellar\, and all the other top clubs in NYC\, featured in 8 NACAS\, headlined her own sold out show in The New York Comedy Festival\, performed at The Bridgetown Comedy Festival\, appeared in a commercial for Dear Kate Underwear\, and became a regular on SiriusXM Raw Dog\, landing her own monthly show and becoming a regular guest host on the popular SiriusXM Stars AM show Wake Up with Taylor! she also appeared on FuseTV and made her late night debut The Late Show with Stephen Colbert.
LOCATION:The Music Hall Loft 131 Congress Street Portsmouth\, NH
UID:e.1659.30292
SEQUENCE:3
DTSTAMP:20260421T131801Z
URL:https://business.portsmouthchamber.org/events/details/the-music-hall-loft-presents-hilarity-featuring-emma-willmann-30292
END:VEVENT

END:VCALENDAR
