BEGIN:VCALENDAR
VERSION:2.0
PRODID:-//ChamberMaster//Event Calendar 2.0//EN
METHOD:PUBLISH
X-PUBLISHED-TTL:P3D
REFRESH-INTERVAL:P3D
CALSCALE:GREGORIAN
BEGIN:VEVENT
DTSTART:20170523T230000Z
DTEND:20170524T010000Z
X-MICROSOFT-CDO-ALLDAYEVENT:FALSE
SUMMARY:The Music Hall Loft presents Innovation + Leadership with Dani Shapiro
DESCRIPTION:"Compassionate\, insightful\, and powerfully honest illuminates the deepest mysteries\, contradictions\, and consolations." Cheryl Strayed\, author of WILD\n\n\n\nThe bestselling novelist and memoirist\, a journalist for Elle\, Vogue\, O\, and The NY Times\, Dani Shapiro delivers her most intimate and powerful work: a piercing\, life-affirming memoir about marriage and memory\, about the frailty and elasticity of our most essential bonds\, and about the accretion\, over time\, of both sorrow and love.
X-ALT-DESC;FMTTYPE=text/html:&ldquo\;Compassionate\, insightful\, and powerfully honest&hellip\;illuminates the deepest mysteries\, contradictions\, and consolations.&rdquo\;&mdash\;Cheryl Strayed\, author of WILD<br />\n<br />\nThe bestselling novelist and memoirist\, a journalist for Elle\, Vogue\, O\, and The NY Times\, Dani Shapiro delivers her most intimate and powerful work: a piercing\, life-affirming memoir about marriage and memory\, about the frailty and elasticity of our most essential bonds\, and about the accretion\, over time\, of both sorrow and love.
LOCATION:The Music Hall Loft 131 Congress Street Portsmouth\, NH
UID:e.1659.30305
SEQUENCE:3
DTSTAMP:20260421T121151Z
URL:https://business.portsmouthchamber.org/events/details/the-music-hall-loft-presents-innovation-leadership-with-dani-shapiro-30305
END:VEVENT

END:VCALENDAR
