BEGIN:VCALENDAR
VERSION:2.0
PRODID:-//ChamberMaster//Event Calendar 2.0//EN
METHOD:PUBLISH
X-PUBLISHED-TTL:P3D
REFRESH-INTERVAL:P3D
CALSCALE:GREGORIAN
BEGIN:VEVENT
DTSTART:20170519T230000Z
DTEND:20170520T000000Z
X-MICROSOFT-CDO-ALLDAYEVENT:FALSE
SUMMARY:The Music Hall Loft presents: Innovation + Leadership with Tommy Caldwell
DESCRIPTION:As smooth as alabaster\, as steep as a bedroom wall\, more than half a mile tall." This is how a New York Times reporter described Yosemite National Park's nearly vertical 3\,000-foot Dawn Wall\, which is widely regarded as rock climbing's greatest challenge. On January 14th\, 2015\, the nineteenth day of an arduous ascent\, Tommy Caldwell\, along with his partner Kevin Jorgeson\, were the first to summit the infamous slab of granite without the assistance of ropes\, other than to catch their falls. Don't miss this special evening with the legendary rock climber Tommy Caldwell as he shares his dramatic\, inspiring story.
X-ALT-DESC;FMTTYPE=text/html:As smooth as alabaster\, as steep as a bedroom wall\, more than half a mile tall.&rdquo\; This is how a New York Times reporter described Yosemite National Park&rsquo\;s nearly vertical 3\,000-foot Dawn Wall\, which is widely regarded as rock climbing&rsquo\;s greatest challenge. On January 14th\, 2015\, the nineteenth day of an arduous ascent\, Tommy Caldwell\, along with his partner Kevin Jorgeson\, were the first to summit the infamous slab of granite without the assistance of ropes\, other than to catch their falls. Don&rsquo\;t miss this special evening with the legendary rock climber Tommy Caldwell as he shares his dramatic\, inspiring story.&nbsp\;
LOCATION:The Music Hall Loft 131 Congress Street Portsmouth\, NH
UID:e.1659.30300
SEQUENCE:3
DTSTAMP:20260421T132031Z
URL:https://business.portsmouthchamber.org/events/details/the-music-hall-loft-presents-innovation-leadership-with-tommy-caldwell-30300
END:VEVENT

END:VCALENDAR
