BEGIN:VCALENDAR
VERSION:2.0
PRODID:-//ChamberMaster//Event Calendar 2.0//EN
METHOD:PUBLISH
X-PUBLISHED-TTL:P3D
REFRESH-INTERVAL:P3D
CALSCALE:GREGORIAN
BEGIN:VEVENT
DTSTART:20170409T230000Z
DTEND:20170410T010000Z
X-MICROSOFT-CDO-ALLDAYEVENT:FALSE
SUMMARY:The Music Hall Loft presents: Live at the Loft with DakhaBrakha
DESCRIPTION:Named "Best Breakout" at 2014's Bonnaroo by Rolling Stone\, the hot Ukrainian folk-punk quartet creates a bright\, unforgettable sound ranging from primal and propulsive to stirring and soulful. Mesmerizing vocals are accompanied by transnational instrumentation everything from cello and accordion to didgeridoo\, piano and percussion implements in a melding of traditional Ukrainian folk music\, African grooves\, Eastern colors\, and a contemporary sensibility the band calls "ethno-chaos." Without a doubt\, the most unusual and exhilarating musical event of the season.
X-ALT-DESC;FMTTYPE=text/html:Named &ldquo\;Best Breakout&rdquo\; at 2014&rsquo\;s Bonnaroo by Rolling Stone\, the hot Ukrainian folk-punk quartet creates a bright\, unforgettable sound ranging from primal and propulsive to stirring and soulful. Mesmerizing vocals are accompanied by transnational instrumentation&mdash\;everything from cello and accordion to didgeridoo\, piano and percussion implements&mdash\;in a melding of traditional Ukrainian folk music\, African grooves\, Eastern colors\, and a contemporary sensibility the band calls &ldquo\;ethno-chaos.&rdquo\; Without a doubt\, the most unusual and exhilarating musical event of the season.
LOCATION:The Music Hall Loft 131 Congress Street Portsmouth\, NH
UID:e.1659.30287
SEQUENCE:3
DTSTAMP:20260421T132314Z
URL:https://business.portsmouthchamber.org/events/details/the-music-hall-loft-presents-live-at-the-loft-with-dakhabrakha-30287
END:VEVENT

END:VCALENDAR
