BEGIN:VCALENDAR
VERSION:2.0
PRODID:-//ChamberMaster//Event Calendar 2.0//EN
METHOD:PUBLISH
X-PUBLISHED-TTL:P3D
REFRESH-INTERVAL:P3D
CALSCALE:GREGORIAN
BEGIN:VEVENT
DTSTART:20170518T233000Z
DTEND:20170519T010000Z
X-MICROSOFT-CDO-ALLDAYEVENT:FALSE
SUMMARY:The Music hall Loft presents: Live at the Loft with Mokoomba
DESCRIPTION:Mokoomba (Victoria Falls\, Zimbabwe) is setting dance-floors ablaze with their unique mix of traditional Tonga\, Luvale\, & Nyanja rhythms combined with other pan-African music cultures and generous dashes of Rap\, Ska\, Soukous and Afro-Cuban music. Since winning the Music Crossroads Inter-regional Festival Competition in Malawi (2008)\, Mokoomba has toured more than 40 countries on 5 continents\, including the legendary Apollo Theater in Harlem. They will return to NA in Spring & Summer 2017.
X-ALT-DESC;FMTTYPE=text/html:Mokoomba (Victoria Falls\, Zimbabwe) is setting dance-floors ablaze with their unique mix of traditional Tonga\, Luvale\, &amp\; Nyanja rhythms combined with other pan-African music cultures and generous dashes of Rap\, Ska\, Soukous and Afro-Cuban music. Since winning the Music Crossroads Inter-regional Festival Competition in Malawi (2008)\, Mokoomba has toured more than 40 countries on 5 continents\, including the legendary Apollo Theater in Harlem. They will return to NA in Spring &amp\; Summer 2017.
LOCATION:The Music Hall Loft 131 Congress Street Portsmouth\, NH
UID:e.1659.30299
SEQUENCE:3
DTSTAMP:20260421T132315Z
URL:https://business.portsmouthchamber.org/events/details/the-music-hall-loft-presents-live-at-the-loft-with-mokoomba-30299
END:VEVENT

END:VCALENDAR
