BEGIN:VCALENDAR
VERSION:2.0
PRODID:-//ChamberMaster//Event Calendar 2.0//EN
METHOD:PUBLISH
X-PUBLISHED-TTL:P3D
REFRESH-INTERVAL:P3D
CALSCALE:GREGORIAN
BEGIN:VEVENT
DTSTART:20170305T013000Z
DTEND:20170305T030000Z
X-MICROSOFT-CDO-ALLDAYEVENT:FALSE
SUMMARY:The Music Hall Loft presents: Lowland Humn
DESCRIPTION:Husband and wife duo Lowland Hum write\, arrange\, and produce all of their own music that beautifully conveys the complexity of their relationship. Known for performing in diverse settings ranging from large folk festivals and theaters to living rooms and gardens\, they have garnered critical acclaim from the likes of NPR\, the Washington Post\, American Songwriter\, and others. Their songs are poetic and evocative\, and their arrangements are minimal\, hushed\, and dynamic. They make their Loft debut with their newly released album Thin.
X-ALT-DESC;FMTTYPE=text/html:Husband and wife duo Lowland Hum write\, arrange\, and produce all of their own music that beautifully conveys the complexity of their relationship. Known for performing in diverse settings ranging from large folk festivals and theaters to living rooms and gardens\, they have garnered critical acclaim from the likes of NPR\, the Washington Post\, American Songwriter\, and others. Their songs are poetic and evocative\, and their arrangements are minimal\, hushed\, and dynamic. They make their Loft debut with their newly released album Thin.
LOCATION:The Music Hall Loft 131 Congress Street\, Portsmouth
UID:e.1659.30058
SEQUENCE:3
DTSTAMP:20260421T151116Z
URL:https://business.portsmouthchamber.org/events/details/the-music-hall-loft-presents-lowland-humn-30058
END:VEVENT

END:VCALENDAR
