BEGIN:VCALENDAR
VERSION:2.0
PRODID:-//ChamberMaster//Event Calendar 2.0//EN
METHOD:PUBLISH
X-PUBLISHED-TTL:P3D
REFRESH-INTERVAL:P3D
CALSCALE:GREGORIAN
BEGIN:VEVENT
DTSTART:20170507T170000Z
DTEND:20170507T190000Z
X-MICROSOFT-CDO-ALLDAYEVENT:FALSE
SUMMARY:The Music Hall Loft presents: On Screen featuring TED2017: The Future You - Opening Event
DESCRIPTION:You have seen TED Talks. But you have never experienced TED - the global phenomenon propelled by ideas that are transforming the world. Until now. TED Cinema Experience will bring TED's flagship event\, TED2017: The Future You\, happening April 24 - 28 in Vancouver\, Canada\, to cinema audiences around the world in three big screen events.\n\nAwe. A sense of wonder. Life changing. Inspirational. All words used to describe the experience that is TED. Now TED Cinema Experience brings TED2017 to you.\n\n\n\nTED2017 will explore the deepest scientific and psychological insights\, the latest medical advances\, and thrilling new inventions (all mixed with a dose of ancient wisdom)\, and will ask questions about our present and future selves that we often don't have time for. The program will feature a succession of extraordinary speakers - risk-takers\, visionaries\, celebrities\, and an emerging generation of idea creators - who will deliver the "talk of their lives" in TED's world-famous TED Talk format. \n\n\n\nThrough the TED Cinema Experience series\, we all have access to the TED experience\, giving us the opportunity to have our curiosity sparked\, minds opened\, and worlds shifted together through three community viewing events on cinema screens. See the world in new ways through your participation in TED Cinema Experience.
X-ALT-DESC;FMTTYPE=text/html:You have seen TED Talks. But you have never experienced TED - the global phenomenon propelled by ideas that are transforming the world. Until now. TED Cinema Experience will bring TED&rsquo\;s flagship event\, TED2017: The Future You\, happening April 24 - 28 in Vancouver\, Canada\, to cinema audiences around the world in three big screen events.<br />\nAwe. A sense of wonder. Life changing. Inspirational. All words used to describe the experience that is TED. Now TED Cinema Experience brings TED2017 to you.<br />\n<br />\nTED2017 will explore the deepest scientific and psychological insights\, the latest medical advances\, and thrilling new inventions (all mixed with a dose of ancient wisdom)\, and will ask questions about our present and future selves that we often don&rsquo\;t have time for. The program will feature a succession of extraordinary speakers - risk-takers\, visionaries\, celebrities\, and an emerging generation of idea creators - who will deliver the &ldquo\;talk of their lives&rdquo\; in TED&rsquo\;s world-famous TED Talk format.&nbsp\;<br />\n<br />\nThrough the TED Cinema Experience series\, we all have access to the TED experience\, giving us the opportunity to have our curiosity sparked\, minds opened\, and worlds shifted&mdash\;together through three community viewing events on cinema screens. See the world in new ways through your participation in TED Cinema Experience.
LOCATION:The Music Hall Loft 131 Congress Street Portsmouth\, NH
UID:e.1659.30296
SEQUENCE:3
DTSTAMP:20260421T131942Z
URL:https://business.portsmouthchamber.org/events/details/the-music-hall-loft-presents-on-screen-featuring-ted2017-the-future-you-opening-event-30296
END:VEVENT

END:VCALENDAR
