BEGIN:VCALENDAR
VERSION:2.0
PRODID:-//ChamberMaster//Event Calendar 2.0//EN
METHOD:PUBLISH
X-PUBLISHED-TTL:P3D
REFRESH-INTERVAL:P3D
CALSCALE:GREGORIAN
BEGIN:VEVENT
DTSTART:20170415T230000Z
DTEND:20170416T010000Z
X-MICROSOFT-CDO-ALLDAYEVENT:FALSE
SUMMARY:The Music Hall Loft presents "The Autopsy of Jane Doe"
DESCRIPTION:New from Trollhunter writer/director Andr  Ovredal: It's just another night at the morgue for a father (Brian Cox) and son (Emile Hirsch) team of coroners\, until an unidentified\, highly unusual corpse comes in\, shrouded in mystery. A scarily unpredictable\, supernatural shocker that never lets up.
X-ALT-DESC;FMTTYPE=text/html:New from Trollhunter writer/director Andr&eacute\; Ovredal: It&rsquo\;s just another night at the morgue for a father (Brian Cox) and son (Emile Hirsch) team of coroners\, until an unidentified\, highly unusual corpse comes in\, shrouded in mystery. A scarily unpredictable\, supernatural shocker that never lets up.
LOCATION:The Music Hall Loft 131 Congress Street Portsmouth\, NH
UID:e.1659.30241
SEQUENCE:3
DTSTAMP:20260421T132346Z
URL:https://business.portsmouthchamber.org/events/details/the-music-hall-loft-presents-the-autopsy-of-jane-doe-30241
END:VEVENT

END:VCALENDAR
