BEGIN:VCALENDAR
VERSION:2.0
PRODID:-//ChamberMaster//Event Calendar 2.0//EN
METHOD:PUBLISH
X-PUBLISHED-TTL:P3D
REFRESH-INTERVAL:P3D
CALSCALE:GREGORIAN
BEGIN:VEVENT
DTSTART:20170309T000000Z
DTEND:20170309T023000Z
X-MICROSOFT-CDO-ALLDAYEVENT:FALSE
SUMMARY:The Music Hall Loft presents: The Salesman
DESCRIPTION:Oscar winner for Best Foreign Language Film. Forced to leave their apartment due to a dangerous construction project in a neighboring building\, a young Iranian couple moves to the center of Tehran where they become embroiled in a life-altering situation involving the previous tenant. Directed by Asghar Farhadi\, who also helmed the Oscar-winning feature A Separation.
X-ALT-DESC;FMTTYPE=text/html:Oscar winner for Best Foreign Language Film. Forced to leave their apartment due to a dangerous construction project in a neighboring building\, a young Iranian couple moves to the center of Tehran where they become embroiled in a life-altering situation involving the previous tenant. Directed by Asghar Farhadi\, who also helmed the Oscar-winning feature A Separation.
LOCATION:The Music Hall Loft 131 Congress Street Portsmouth\, NH
UID:e.1659.30064
SEQUENCE:3
DTSTAMP:20260421T151217Z
URL:https://business.portsmouthchamber.org/events/details/the-music-hall-loft-presents-the-salesman-03-08-2017-30064
END:VEVENT

END:VCALENDAR
