BEGIN:VCALENDAR
VERSION:2.0
PRODID:-//ChamberMaster//Event Calendar 2.0//EN
METHOD:PUBLISH
X-PUBLISHED-TTL:P3D
REFRESH-INTERVAL:P3D
CALSCALE:GREGORIAN
BEGIN:VEVENT
DTSTART:20170503T230000Z
DTEND:20170504T010000Z
X-MICROSOFT-CDO-ALLDAYEVENT:FALSE
SUMMARY:The Music Hall Loft presents: Writers in the Loft featuring Anita Shreve
DESCRIPTION:From the New York Times best-selling author of The Weight of Water and The Pilot's Wife (an Oprah's Book Club selection): an exquisitely suspenseful new novel about an extraordinary young woman tested by a catastrophic event and its devastating aftermath based on the true story of the largest fire in Maine's history.\n\n\n\nIn October 1947\, after a summer-long drought\, fires break out near Bar Harbor and are soon burning out of control\, racing down the coast. Five months pregnant\, Grace Holland is left alone to protect her two toddlers when her husband\, Gene\, joins the volunteer firefighters. Along with her best friend\, Rosie\, and Rosie's two young children\, Grace watches helplessly as their houses burn to the ground\, the flames finally forcing them all into the ocean as a last resort. The women spend the night frantically protecting their children\, and in the morning find their lives forever changed: homeless\, penniless\, awaiting news of their husbands' fate\, and left to face an uncertain future in a town that no longer exists. In the midst of this devastating loss\, Grace discovers glorious new freedoms joys and triumphs she could never have expected her narrow life with Gene could contain and her spirit soars.  And then the unthinkable happens and Grace's bravery is tested as never before.
X-ALT-DESC;FMTTYPE=text/html:From the New York Times best-selling author of The Weight of Water and The Pilot&rsquo\;s Wife (an Oprah&rsquo\;s Book Club selection): an exquisitely suspenseful new novel about an extraordinary young woman tested by a catastrophic event and its devastating aftermath&mdash\;based on the true story of the largest fire in Maine&rsquo\;s history.<br />\n<br />\nIn October 1947\, after a summer-long drought\, fires break out near Bar Harbor and are soon burning out of control\, racing down the coast. Five months pregnant\, Grace Holland is left alone to protect her two toddlers when her husband\, Gene\, joins the volunteer firefighters. Along with her best friend\, Rosie\, and Rosie&rsquo\;s two young children\, Grace watches helplessly as their houses burn to the ground\, the flames finally forcing them all into the ocean as a last resort. The women spend the night frantically protecting their children\, and in the morning find their lives forever changed: homeless\, penniless\, awaiting news of their husbands&rsquo\; fate\, and left to face an uncertain future in a town that no longer exists. In the midst of this devastating loss\, Grace discovers glorious new freedoms&mdash\;joys and triumphs she could never have expected her narrow life with Gene could contain&mdash\;and her spirit soars. &nbsp\;And then the unthinkable happens&mdash\;and Grace&rsquo\;s bravery is tested as never before.
LOCATION:The Music Hall Loft 131 Congress Street Portsmouth\, NH
UID:e.1659.30295
SEQUENCE:3
DTSTAMP:20260421T121627Z
URL:https://business.portsmouthchamber.org/events/details/the-music-hall-loft-presents-writers-in-the-loft-featuring-anita-shreve-30295
END:VEVENT

END:VCALENDAR
