BEGIN:VCALENDAR
VERSION:2.0
PRODID:-//ChamberMaster//Event Calendar 2.0//EN
METHOD:PUBLISH
X-PUBLISHED-TTL:P3D
REFRESH-INTERVAL:P3D
CALSCALE:GREGORIAN
BEGIN:VEVENT
DTSTART:20170203T000000Z
DTEND:20170203T020000Z
X-MICROSOFT-CDO-ALLDAYEVENT:FALSE
SUMMARY:The Music Hall Loft presents Writers in the Loft with Brad Gooch
DESCRIPTION:The New York Times bestselling biographer (Flannery\, City Poet) explores the life and writing of Rumi\, the 13th-century Persian Sufi whose work has captured the hearts and minds of contemporary western readers including Madonna\, Deepak Chopra\, and Oliver Stone.  Join Brad Gooch in his travels through the Middle East in search of the true story of this religious leader and professor turned poet and whirling mystic.\n\n\n\nDon't miss the first-ever biography for the general reader of the religious leader whose work has captured the hearts and minds of contemporary Western readers.\n\n\n\nBrad Gooch is the author of Smash Cut: A Memoir of Howard & Art & the 70s and the 80s and Flannery: A Life of Flannery O'Connor\, which was a National Book Critics Circle Award Finalist\, a New York Times Notable Book of the Year\, and a New York Times bestseller. His previous books include City Poet: The Life and Times of Frank O'Hara\; Godtalk: Travels in Spiritual America\; as well as three novels\, a story collection\, a volume of poems\, and two memoirs. A Guggenheim fellow in biography\, he has received a National Endowment for the Humanities fellowship\, and a Furthermore grant in publishing from the J.M. Kaplan Fund.
X-ALT-DESC;FMTTYPE=text/html:The New York Times bestselling biographer (Flannery\, City Poet) explores the life and writing of Rumi\, the 13th-century Persian Sufi whose work has captured the hearts and minds of contemporary western readers including Madonna\, Deepak Chopra\, and Oliver Stone. &nbsp\;Join Brad Gooch in his travels through the Middle East in search of the true story of this religious leader and professor turned poet and whirling mystic.<br />\n<br />\nDon&rsquo\;t miss the first-ever biography for the general reader of the religious leader whose work has captured the hearts and minds of contemporary Western readers.<br />\n<br />\nBrad Gooch is the author of Smash Cut: A Memoir of Howard &amp\; Art &amp\; the 70s and the 80s and Flannery: A Life of Flannery O&rsquo\;Connor\, which was a National Book Critics Circle Award Finalist\, a New York Times Notable Book of the Year\, and a New York Times bestseller. His previous books include City Poet: The Life and Times of Frank O&rsquo\;Hara\; Godtalk: Travels in Spiritual America\; as well as three novels\, a story collection\, a volume of poems\, and two memoirs. A Guggenheim fellow in biography\, he has received a National Endowment for the Humanities fellowship\, and a Furthermore grant in publishing from the J.M. Kaplan Fund.
LOCATION:The Music Hall Loft 131 Congress Street Portsmouth\, NH
UID:e.1659.29678
SEQUENCE:3
DTSTAMP:20260421T164145Z
URL:https://business.portsmouthchamber.org/events/details/the-music-hall-loft-presents-writers-in-the-loft-with-brad-gooch-29678
END:VEVENT

END:VCALENDAR
