BEGIN:VCALENDAR
VERSION:2.0
PRODID:-//ChamberMaster//Event Calendar 2.0//EN
METHOD:PUBLISH
X-PUBLISHED-TTL:P3D
REFRESH-INTERVAL:P3D
CALSCALE:GREGORIAN
BEGIN:VEVENT
DTSTART:20161112T010000Z
DTEND:20161112T030000Z
X-MICROSOFT-CDO-ALLDAYEVENT:FALSE
SUMMARY:The Music Hall Loft: Rhett miller
DESCRIPTION:Rhett Miller\, lead singer of boozy raucous rockers The Old 97s\, comes to the Loft with his new solo album The Traveler. Recorded with Black Prairie (members of The Decemberists) and produced by Chris Funk\, his album showcases a relentless and seemingly ageless songwriter honed by years on the road.
X-ALT-DESC;FMTTYPE=text/html:Rhett Miller\, lead singer of boozy raucous rockers The Old 97s\, comes to the Loft with his new solo album The Traveler. Recorded with Black Prairie (members of The Decemberists) and produced by Chris Funk\, his album showcases a relentless and seemingly ageless songwriter honed by years on the road.
LOCATION:The Music Hall Loft 131 Congress Street Portsmouth\, NH 03801
UID:e.1659.27926
SEQUENCE:3
DTSTAMP:20260421T211702Z
URL:https://business.portsmouthchamber.org/events/details/the-music-hall-loft-rhett-miller-27926
END:VEVENT

END:VCALENDAR
