BEGIN:VCALENDAR
VERSION:2.0
PRODID:-//ChamberMaster//Event Calendar 2.0//EN
METHOD:PUBLISH
X-PUBLISHED-TTL:P3D
REFRESH-INTERVAL:P3D
CALSCALE:GREGORIAN
BEGIN:VEVENT
DTSTART:20161002T230000Z
DTEND:20161003T013500Z
X-MICROSOFT-CDO-ALLDAYEVENT:FALSE
SUMMARY:The Music Hall Loft: Vetiver
DESCRIPTION:Vetiver\, aka Andy Cabic\, composed "Complete Strangers" to the rhythm of his own footsteps. As he walked the Silicon-paved streets of San Francisco\, the seeds of his first offering in five years sprouted and matured. Describing the new album as a work of transition and duality\, where "sunshine is only a chord away from melancholy." He'll be making his Loft debut this fall.
X-ALT-DESC;FMTTYPE=text/html:Vetiver\, aka Andy Cabic\, composed &ldquo\;Complete Strangers&rdquo\; to the rhythm of his own footsteps. As he walked the Silicon-paved streets of San Francisco\, the seeds of his first offering in five years sprouted and matured. Describing the new album as a work of transition and duality\, where &ldquo\;sunshine is only a chord away from melancholy.&rdquo\; He&rsquo\;ll be making his Loft debut this fall.
LOCATION:The Music Hall Loft 131 Congress Street Portsmouth\, NH 03801
UID:e.1659.25899
SEQUENCE:3
DTSTAMP:20260421T225129Z
URL:https://business.portsmouthchamber.org/events/details/the-music-hall-loft-vetiver-25899
END:VEVENT

END:VCALENDAR
