BEGIN:VCALENDAR
VERSION:2.0
PRODID:-//ChamberMaster//Event Calendar 2.0//EN
METHOD:PUBLISH
X-PUBLISHED-TTL:P3D
REFRESH-INTERVAL:P3D
CALSCALE:GREGORIAN
BEGIN:VEVENT
DTSTART:20161001T230000Z
DTEND:20161002T013000Z
X-MICROSOFT-CDO-ALLDAYEVENT:FALSE
SUMMARY:The Music Hall Loft welcomes Carlyle Brown & Company presenting: Acting Black
DESCRIPTION:Renowned African-American writer and performer\, Carlyle Brown returns to The Music Hall with Acting Black\, direct from his sold out Guthrie Studio performances.\n\n\n\nInspired by the styles and traditions of the likes of Richard Pryor\, George Carlin\, and the outrageous Lord Buckley\, Acting Black is part spoken word\, part stand-up comedy\, part TED Talk and explores the roots of American racism and its consequences for all of us.\n\n\n\nThis show examines the appropriation of the African American narrative from a single night in Louisville\, Kentucky\, in 1828 to the racial conflicts we endure today. You will laugh out loud while simultaneously being hit in the gut. Come join the conversation.
X-ALT-DESC;FMTTYPE=text/html:Renowned African-American writer and performer\, Carlyle Brown returns to The Music Hall with Acting Black\, direct from his sold out Guthrie Studio performances.<br />\n<br />\nInspired by the styles and traditions of the likes of Richard Pryor\, George Carlin\, and the outrageous Lord Buckley\, Acting Black is part spoken word\, part stand-up comedy\, part TED Talk and explores the roots of American racism and its consequences for all of us.<br />\n<br />\nThis show examines the appropriation of the African American narrative from a single night in Louisville\, Kentucky\, in 1828 to the racial conflicts we endure today. You will laugh out loud while simultaneously being hit in the gut. Come join the conversation.
LOCATION:The Music Hall Loft 131 Congress Street Portsmouth\, NH 03801
UID:e.1659.25894
SEQUENCE:3
DTSTAMP:20260421T225530Z
URL:https://business.portsmouthchamber.org/events/details/the-music-hall-loft-welcomes-carlyle-brown-company-presenting-acting-black-25894
END:VEVENT

END:VCALENDAR
