BEGIN:VCALENDAR
VERSION:2.0
PRODID:-//ChamberMaster//Event Calendar 2.0//EN
METHOD:PUBLISH
X-PUBLISHED-TTL:P3D
REFRESH-INTERVAL:P3D
CALSCALE:GREGORIAN
BEGIN:VEVENT
DTSTART:20161009T000000Z
DTEND:20161009T020000Z
X-MICROSOFT-CDO-ALLDAYEVENT:FALSE
SUMMARY:The Music Hall Loft welcomes Ruby Rose Fox
DESCRIPTION:Ruby Rose Fox\, a vocal powerhouse of soul-driven\, edgy rock 'n' roll (with a nod to new-wave pop)\, whose voice threatens to knock down the walls of any room in which she performs\, is hard at work to make 2016 her strongest year of new releases and live performances. Ruby Rose Fox was the lone standout of Boston-based artists to make The Boston Globe's list of "10 Bands and Solo Artists to Watch in 2015\," and winner of the 2014 & 2015 Boston Music Awards for Best Female Vocalist\, as well as "Best Pop Artist" in 2015.  Ruby also took home the award for "Female Performer of the Year\," at the 2016 New England Music Awards.
X-ALT-DESC;FMTTYPE=text/html:Ruby Rose Fox\, a vocal powerhouse of soul-driven\, edgy rock &lsquo\;n&rsquo\; roll (with a nod to new-wave pop)\, whose voice threatens to knock down the walls of any room in which she performs\, is hard at work to make 2016 her strongest year of new releases and live performances. Ruby Rose Fox was the lone standout of Boston-based artists to make The Boston Globe&rsquo\;s list of &ldquo\;10 Bands and Solo Artists to Watch in 2015\,&rdquo\; and winner of the 2014 &amp\; 2015 Boston Music Awards for Best Female Vocalist\, as well as &ldquo\;Best Pop Artist&rdquo\; in 2015. &nbsp\;Ruby also took home the award for &ldquo\;Female Performer of the Year\,&rdquo\; at the 2016 New England Music Awards.
LOCATION:The Music Hall Loft 131 Congress Street Portsmouth\, NH 03801
UID:e.1659.25901
SEQUENCE:3
DTSTAMP:20260421T224922Z
URL:https://business.portsmouthchamber.org/events/details/the-music-hall-loft-welcomes-ruby-rose-fox-25901
END:VEVENT

END:VCALENDAR
