BEGIN:VCALENDAR
VERSION:2.0
PRODID:-//ChamberMaster//Event Calendar 2.0//EN
METHOD:PUBLISH
X-PUBLISHED-TTL:P3D
REFRESH-INTERVAL:P3D
CALSCALE:GREGORIAN
BEGIN:VEVENT
DTSTART:20161104T230000Z
DTEND:20161105T010000Z
X-MICROSOFT-CDO-ALLDAYEVENT:FALSE
SUMMARY:The Music Hall Loft: Who is Lydia Loveless?
DESCRIPTION:Singer/songwriter\, alt-country queen\, cow punk\, hard rocker? The second coming of Hank Williams or Patti Smith? Or just a bubbling cauldron of hormones and emotions holding steadfast to the ideal of keeping rock & roll alive?\n\n\n\nQ&A with filmmaker Gorman Bechard to follow. Mr. Bechard is a film director\, screenwriter and novelist best known for his independent feature films: Psychos in Love\, Friends (with benefits)\, and You Are Alone\; his four rock documentaries Color Me Obsessed: A Film About the Replacements\; What Did You Expect? The Archers of Loaf Live at Cat's Cradle\; Every Everything: The Music\, Life & Times of Grant Hart\; his animal welfare documentary A Dog Named Gucci\; and his debut novel The Second Greatest Story Ever Told
X-ALT-DESC;FMTTYPE=text/html:Singer/songwriter\, alt-country queen\, cow punk\, hard rocker? The second coming of Hank Williams or Patti Smith? Or just a bubbling cauldron of hormones and emotions holding steadfast to the ideal of keeping rock &amp\; roll alive?<br />\n<br />\nQ&amp\;A with filmmaker Gorman Bechard to follow. Mr. Bechard is a film director\, screenwriter and novelist best known for his independent feature films: Psychos in Love\, Friends (with benefits)\, and You Are Alone\; his four rock documentaries Color Me Obsessed: A Film About the Replacements\; What Did You Expect? The Archers of Loaf Live at Cat&rsquo\;s Cradle\; Every Everything: The Music\, Life &amp\; Times of Grant Hart\; his animal welfare documentary A Dog Named Gucci\; and his debut novel The Second Greatest Story Ever Told
LOCATION:The Music Hall Loft 131 Congress Street Portsmouth\, NH 03801
UID:e.1659.27912
SEQUENCE:3
DTSTAMP:20260421T225337Z
URL:https://business.portsmouthchamber.org/events/details/the-music-hall-loft-who-is-lydia-loveless-27912
END:VEVENT

END:VCALENDAR
