BEGIN:VCALENDAR
VERSION:2.0
PRODID:-//ChamberMaster//Event Calendar 2.0//EN
METHOD:PUBLISH
X-PUBLISHED-TTL:P3D
REFRESH-INTERVAL:P3D
CALSCALE:GREGORIAN
BEGIN:VEVENT
DTSTART:20170211T233000Z
DTEND:20170212T013000Z
X-MICROSOFT-CDO-ALLDAYEVENT:FALSE
SUMMARY:The Music Hall presents: An Affair to Remember
DESCRIPTION:Rendezvous with your Valentine on The Music Hall's historic stage\, transformed into a 50's mid-century lounge. It's time for "An Affair to Remember"   not just the classic movie\, but the vibe.  Come to wine\, dine\, and dance as we make a little romance\, all in support of The Music Hall's Community Outreach programs.
X-ALT-DESC;FMTTYPE=text/html:Rendezvous with your Valentine on The Music Hall&rsquo\;s historic stage\, transformed into a 50&rsquo\;s mid-century lounge. It&rsquo\;s time for &ldquo\;An Affair to Remember&rdquo\; &ndash\; not just the classic movie\, but the vibe. &nbsp\;Come to wine\, dine\, and dance as we make a little romance\, all in support of The Music Hall&rsquo\;s Community Outreach programs.
LOCATION:The Historic Theater 28 Chestnut Street Portsmouth\, NH
UID:e.1659.29695
SEQUENCE:3
DTSTAMP:20260421T180134Z
URL:https://business.portsmouthchamber.org/events/details/the-music-hall-presents-an-affair-to-remember-29695
END:VEVENT

END:VCALENDAR
