BEGIN:VCALENDAR
VERSION:2.0
PRODID:-//ChamberMaster//Event Calendar 2.0//EN
METHOD:PUBLISH
X-PUBLISHED-TTL:P3D
REFRESH-INTERVAL:P3D
CALSCALE:GREGORIAN
BEGIN:VEVENT
DTSTART:20170226T180000Z
DTEND:20170226T213000Z
X-MICROSOFT-CDO-ALLDAYEVENT:FALSE
SUMMARY:The Music Hall presents- Bolshoi Ballet On Screen: Swan Lake
DESCRIPTION:At moonlight on the banks of a mysterious lake\, Prince Siegfried meets the bewitched swan-woman Odette. Completely spellbound by her beauty\, he swears his faithfulness to her. However\, the Prince realizes too late that Fate has another plan for him .\n\n\n\nA ballet of ultimate beauty and a score of unparalleled perfection born at the Bolshoi in 1877. In the dual role of white swan Odette and her rival black swan Odile\, prima ballerina Svetlana Zakharova exudes both vulnerability and cunning through superb technical mastery\, alongside the powerful and emotional Siegfried\, Denis Rodkin. Including breathtaking scenes with the Bolshoi's corps de ballet\, this is classical ballet at its finest. Captured live on Jan 25\, 2015.
X-ALT-DESC;FMTTYPE=text/html:At moonlight on the banks of a mysterious lake\, Prince Siegfried meets the bewitched swan-woman Odette. Completely spellbound by her beauty\, he swears his faithfulness to her. However\, the Prince realizes too late that Fate has another plan for him&hellip\;.<br />\n<br />\nA ballet of ultimate beauty and a score of unparalleled perfection born at the Bolshoi in 1877. In the dual role of white swan Odette and her rival black swan Odile\, prima ballerina Svetlana Zakharova exudes both vulnerability and cunning through superb technical mastery\, alongside the powerful and emotional Siegfried\, Denis Rodkin. Including breathtaking scenes with the Bolshoi&rsquo\;s corps de ballet\, this is classical ballet at its finest. Captured live on Jan 25\, 2015.
LOCATION:The Music Hall Loft 131 Congress Street Portsmouth\, NH
UID:e.1659.29716
SEQUENCE:3
DTSTAMP:20260421T164420Z
URL:https://business.portsmouthchamber.org/events/details/the-music-hall-presents-bolshoi-ballet-on-screen-swan-lake-29716
END:VEVENT

END:VCALENDAR
