BEGIN:VCALENDAR
VERSION:2.0
PRODID:-//ChamberMaster//Event Calendar 2.0//EN
METHOD:PUBLISH
X-PUBLISHED-TTL:P3D
REFRESH-INTERVAL:P3D
CALSCALE:GREGORIAN
BEGIN:VEVENT
DTSTART;VALUE=DATE:20170204
DTEND;VALUE=DATE:20170205
TRANSP:TRANSPARENT
X-MICROSOFT-CDO-ALLDAYEVENT:TRUE
SUMMARY:The Music Hall presents- Capitol Steps: What to Expect When You're Electing
DESCRIPTION:Straight from D.C. the comic troupe of former congressional-staffers-turned-comedians return to Portsmouth for a 19th annual concert supporting affordable housing development. No matter who's in the headlines\, The Capitol Steps are equal opportunity offenders promising an evening full of bipartisan lampooning.\n\n\n\nThe Capitol Steps have been a Washington\, DC institution for over thirty years\, providing a unique blend of musical and political comedy to our Nation's Capitol and more.  Each show consists of tasteful lampooning guaranteed to leave both sides of the political spectrum laughing appearing on The Today Show\, Nightline\, CBS Evening News and for many years in specials for National Public Radio.
X-ALT-DESC;FMTTYPE=text/html:<br />\nStraight from D.C. the comic troupe of former congressional-staffers-turned-comedians return to Portsmouth for a 19th annual concert supporting affordable housing development. No matter who&rsquo\;s in the headlines\, The Capitol Steps are equal opportunity offenders promising an evening full of bipartisan lampooning.<br />\n<br />\nThe Capitol Steps have been a Washington\, DC institution for over thirty years\, providing a unique blend of musical and political comedy to our Nation&rsquo\;s Capitol and more. &nbsp\;Each show consists of tasteful lampooning guaranteed to leave both sides of the political spectrum laughing appearing on The Today Show\, Nightline\, CBS Evening News and for many years in specials for National Public Radio.
LOCATION:The Historic Theater 28 Chestnut Street Portsmouth\, NH
UID:e.1659.29682
SEQUENCE:3
DTSTAMP:20260421T164135Z
URL:https://business.portsmouthchamber.org/events/details/the-music-hall-presents-capitol-steps-what-to-expect-when-you-re-electing-29682
END:VEVENT

END:VCALENDAR
