BEGIN:VCALENDAR
VERSION:2.0
PRODID:-//ChamberMaster//Event Calendar 2.0//EN
METHOD:PUBLISH
X-PUBLISHED-TTL:P3D
REFRESH-INTERVAL:P3D
CALSCALE:GREGORIAN
BEGIN:VEVENT
DTSTART;VALUE=DATE:20170205
DTEND;VALUE=DATE:20170206
TRANSP:TRANSPARENT
X-MICROSOFT-CDO-ALLDAYEVENT:TRUE
SUMMARY:The Music Hall presents: Daughters of the Dust (1991) Restoration
DESCRIPTION:25th Anniversary Restoration\n\n\n\nAt the dawn of the 20th century\, a multi-generational family in the Gullah community on the Sea Islands off of South Carolina - former West African slaves who adopted many of their ancestors' Yoruba traditions - struggle to maintain their cultural heritage and folklore while contemplating a migration to the mainland\, even further from their roots. Writer/Director Julie Dash's landmark film\, the first wide release by a black female filmmaker\, it was met with wild critical acclaim and rapturous audience response when it initially opened in 1991. Casting a long legacy\, the film still resonates today\, most recently as a major in influence on Beyonce's video album "Lemonade."
X-ALT-DESC;FMTTYPE=text/html:25th Anniversary Restoration<br />\n<br />\nAt the dawn of the 20th century\, a multi-generational family in the Gullah community on the Sea Islands off of South Carolina - former West African slaves who adopted many of their ancestors&rsquo\; Yoruba traditions - struggle to maintain their cultural heritage and folklore while contemplating a migration to the mainland\, even further from their roots. Writer/Director Julie Dash&rsquo\;s landmark film\, the first wide release by a black female filmmaker\, it was met with wild critical acclaim and rapturous audience response when it initially opened in 1991. Casting a long legacy\, the film still resonates today\, most recently as a major in influence on Beyonce&rsquo\;s video album &ldquo\;Lemonade.&rdquo\;
LOCATION:The Music Hall Loft 131 Congress Street Portsmouth\, NH
UID:e.1659.29681
SEQUENCE:3
DTSTAMP:20260421T164304Z
URL:https://business.portsmouthchamber.org/events/details/the-music-hall-presents-daughters-of-the-dust-1991-restoration-02-05-2017-29681
END:VEVENT

END:VCALENDAR
