BEGIN:VCALENDAR
VERSION:2.0
PRODID:-//ChamberMaster//Event Calendar 2.0//EN
METHOD:PUBLISH
X-PUBLISHED-TTL:P3D
REFRESH-INTERVAL:P3D
CALSCALE:GREGORIAN
BEGIN:VEVENT
DTSTART;VALUE=DATE:20170215
DTEND;VALUE=DATE:20170216
TRANSP:TRANSPARENT
X-MICROSOFT-CDO-ALLDAYEVENT:TRUE
SUMMARY:The Music Hall presents: Elle
DESCRIPTION:Nominated for Cannes' Palme d'Or and two Golden Globes. Mich le (Isabelle Huppert) seems indestructible. Head of a successful video game company\, she brings the same ruthless attitude to her love life as to business. Being attacked in her home by an unknown assailant changes Mich le's life forever. When she resolutely tracks the man down\, they are both drawn into a curious and thrilling game - a game that may\, at any moment\, spiral out of control.
X-ALT-DESC;FMTTYPE=text/html:Nominated for Cannes&rsquo\; Palme d&rsquo\;Or and two Golden Globes. Mich&egrave\;le (Isabelle Huppert) seems indestructible. Head of a successful video game company\, she brings the same ruthless attitude to her love life as to business. Being attacked in her home by an unknown assailant changes Mich&egrave\;le&rsquo\;s life forever. When she resolutely tracks the man down\, they are both drawn into a curious and thrilling game - a game that may\, at any moment\, spiral out of control.
LOCATION:The Historic Theater 28 Chestnut Street Portsmouth\, NH
UID:e.1659.29697
SEQUENCE:3
DTSTAMP:20260421T163735Z
URL:https://business.portsmouthchamber.org/events/details/the-music-hall-presents-elle-02-15-2017-29697
END:VEVENT

END:VCALENDAR
