BEGIN:VCALENDAR
VERSION:2.0
PRODID:-//ChamberMaster//Event Calendar 2.0//EN
METHOD:PUBLISH
X-PUBLISHED-TTL:P3D
REFRESH-INTERVAL:P3D
CALSCALE:GREGORIAN
BEGIN:VEVENT
DTSTART;VALUE=DATE:20170212
DTEND;VALUE=DATE:20170213
TRANSP:TRANSPARENT
X-MICROSOFT-CDO-ALLDAYEVENT:TRUE
SUMMARY:The Music Hall presents: Fire at Sea
DESCRIPTION:The first documentary to ever win the top award at the Berlin International Film Festival\, FIRE AT SEA takes place in Lampedusa\, a once peaceful Mediterranean island that has become a major entry point for African refugees into Europe. There\, we meet Samuele\, a 12-year-old boy who lives simply\, climbing rocks by the shore and playing with his slingshot. Yet nearby we also witness thousands of men\, women and children trying to survive the crossing from Africa in boats that are too small for such a journey .
X-ALT-DESC;FMTTYPE=text/html:The first documentary to ever win the top award at the Berlin International Film Festival\, FIRE AT SEA takes place in Lampedusa\, a once peaceful Mediterranean island that has become a major entry point for African refugees into Europe. There\, we meet Samuele\, a 12-year-old boy who lives simply\, climbing rocks by the shore and playing with his slingshot. Yet nearby we also witness thousands of men\, women and children trying to survive the crossing from Africa in boats that are too small for such a journey&shy\;.
LOCATION:The Music Hall Loft 131 Congress Street Portsmouth\, NH
UID:e.1659.29692
SEQUENCE:3
DTSTAMP:20260421T163932Z
URL:https://business.portsmouthchamber.org/events/details/the-music-hall-presents-fire-at-sea-02-12-2017-29692
END:VEVENT

END:VCALENDAR
