BEGIN:VCALENDAR
VERSION:2.0
PRODID:-//ChamberMaster//Event Calendar 2.0//EN
METHOD:PUBLISH
X-PUBLISHED-TTL:P3D
REFRESH-INTERVAL:P3D
CALSCALE:GREGORIAN
BEGIN:VEVENT
DTSTART:20170225T010000Z
DTEND:20170225T030000Z
X-MICROSOFT-CDO-ALLDAYEVENT:FALSE
SUMMARY:The Music Hall presents: Glen David Andrews
DESCRIPTION:From making waves headlining the annual New Orleans Jazz and Heritage Festival to his regular gigs at iconic NOLA clubs\, Glen David Andrews is part of New Orleans music royalty. Andrews' music has a presence and sweetness that has long endeared him to audiences and has made him a Music Hall favorite. Get ready for a night of gospel\, blues\, and jazz music that will transport you right to the Mardi Gras Parades. Don't miss this unforgettable night as Glen David Andrews returns to the Loft.
X-ALT-DESC;FMTTYPE=text/html:From making waves headlining the annual New Orleans Jazz and Heritage Festival to his regular gigs at iconic NOLA clubs\, Glen David Andrews is part of New Orleans music royalty. Andrews&rsquo\; music has a presence and sweetness that has long endeared him to audiences and has made him a Music Hall favorite. Get ready for a night of gospel\, blues\, and jazz music that will transport you right to the Mardi Gras Parades. Don&rsquo\;t miss this unforgettable night as Glen David Andrews returns to the Loft.
LOCATION:The Music Hall Loft 131 Congress Street Portsmouth\, NH
UID:e.1659.29712
SEQUENCE:3
DTSTAMP:20260421T163840Z
URL:https://business.portsmouthchamber.org/events/details/the-music-hall-presents-glen-david-andrews-29712
END:VEVENT

END:VCALENDAR
