BEGIN:VCALENDAR
VERSION:2.0
PRODID:-//ChamberMaster//Event Calendar 2.0//EN
METHOD:PUBLISH
X-PUBLISHED-TTL:P3D
REFRESH-INTERVAL:P3D
CALSCALE:GREGORIAN
BEGIN:VEVENT
DTSTART:20170301T000000Z
DTEND:20170301T020000Z
X-MICROSOFT-CDO-ALLDAYEVENT:FALSE
SUMMARY:The Music Hall presents: I Am Not Your Negro
DESCRIPTION:Using the unfinished final manuscript of writer James Baldwin\, this documentary by Raoul Peck delves into the legacy of Malcolm X\, Martin Luther King Jr.\, and Medgar Evers and their impact on what it means to be black in America.
X-ALT-DESC;FMTTYPE=text/html:Using the unfinished final manuscript of writer James Baldwin\, this documentary by Raoul Peck delves into the legacy of Malcolm X\, Martin Luther King Jr.\, and Medgar Evers and their impact on what it means to be black in America.
LOCATION:The Music Hall Loft 131 Congress Street Portsmouth\, NH
UID:e.1659.29719
SEQUENCE:3
DTSTAMP:20260421T164139Z
URL:https://business.portsmouthchamber.org/events/details/the-music-hall-presents-i-am-not-your-negro-02-28-2017-29719
END:VEVENT

END:VCALENDAR
