BEGIN:VCALENDAR
VERSION:2.0
PRODID:-//ChamberMaster//Event Calendar 2.0//EN
METHOD:PUBLISH
X-PUBLISHED-TTL:P3D
REFRESH-INTERVAL:P3D
CALSCALE:GREGORIAN
BEGIN:VEVENT
DTSTART:20170224T000000Z
DTEND:20170224T020000Z
X-MICROSOFT-CDO-ALLDAYEVENT:FALSE
SUMMARY:The Music Hall presents: Janapar
DESCRIPTION:23-year-old Tom Allen is all set for a 9 5 career in IT. Trouble is\, he can't help wondering whether there's more to life. So Tom sets off on the ultimate adventure: cycling around the world. Despite his lack of experience\, Tom cycles and camps his way across three continents\, encountering a vivid cast of friends and foes. But the journey takes an unlikely detour when he falls in love with Tenny\, a feisty Iranian-Armenian. Presented in affiliation with Seacoast Area Bicycle Riders.
X-ALT-DESC;FMTTYPE=text/html:23-year-old Tom Allen is all set for a 9&ndash\;5 career in IT. Trouble is\, he can&rsquo\;t help wondering whether there&rsquo\;s more to life. So Tom sets off on the ultimate adventure: cycling around the world. Despite his lack of experience\, Tom cycles and camps his way across three continents\, encountering a vivid cast of friends and foes. But the journey takes an unlikely detour when he falls in love with Tenny\, a feisty Iranian-Armenian. Presented in affiliation with Seacoast Area Bicycle Riders.
LOCATION:The Music Hall Loft 131 Congress Street Portsmouth\, NH
UID:e.1659.29707
SEQUENCE:3
DTSTAMP:20260421T163641Z
URL:https://business.portsmouthchamber.org/events/details/the-music-hall-presents-janapar-29707
END:VEVENT

END:VCALENDAR
