BEGIN:VCALENDAR
VERSION:2.0
PRODID:-//ChamberMaster//Event Calendar 2.0//EN
METHOD:PUBLISH
X-PUBLISHED-TTL:P3D
REFRESH-INTERVAL:P3D
CALSCALE:GREGORIAN
BEGIN:VEVENT
DTSTART:20170226T010000Z
DTEND:20170226T030000Z
X-MICROSOFT-CDO-ALLDAYEVENT:FALSE
SUMMARY:The Music Hall presents: John Doe
DESCRIPTION:A brilliant singer with a gift for writing great melodies\, and an intelligent\, evocative lyricist\, nearly all of his albums find him displaying these talents in equal measure. The frontman and co-founder of X has returned to his solo roots with his newest album\, The Westerner\, an uncommonly strong set of songs that that ranks with his finest work. It confirms that at the age of 63\, he hasn't run out of ideas and is not afraid to challenge himself.
X-ALT-DESC;FMTTYPE=text/html:A brilliant singer with a gift for writing great melodies\, and an intelligent\, evocative lyricist\, nearly all of his albums find him displaying these talents in equal measure. The frontman and co-founder of X has returned to his solo roots with his newest album\, The Westerner\, an uncommonly strong set of songs that that ranks with his finest work. It confirms that at the age of 63\, he hasn&rsquo\;t run out of ideas and is not afraid to challenge himself.
LOCATION:The Music Hall Loft 131 Congress Street Portsmouth\, NH
UID:e.1659.29715
SEQUENCE:3
DTSTAMP:20260421T163701Z
URL:https://business.portsmouthchamber.org/events/details/the-music-hall-presents-john-doe-29715
END:VEVENT

END:VCALENDAR
