BEGIN:VCALENDAR
VERSION:2.0
PRODID:-//ChamberMaster//Event Calendar 2.0//EN
METHOD:PUBLISH
X-PUBLISHED-TTL:P3D
REFRESH-INTERVAL:P3D
CALSCALE:GREGORIAN
BEGIN:VEVENT
DTSTART:20170223T000000Z
DTEND:20170223T020000Z
X-MICROSOFT-CDO-ALLDAYEVENT:FALSE
SUMMARY:The Music Hall presents: Julieta
DESCRIPTION:The latest by Spanish master Pedro Almod var. After a chance meeting\, middle-aged Julieta (Emma Suarez) learns that her long-lost daughter has resurfaced in Madrid. This begins a painful reflection by Julieta into her checkered past\, flashing back to the moments of pain that defined her current life.
X-ALT-DESC;FMTTYPE=text/html:The latest by Spanish master Pedro Almod&oacute\;var. After a chance meeting\, middle-aged Julieta (Emma Suarez) learns that her long-lost daughter has resurfaced in Madrid. This begins a painful reflection by Julieta into her checkered past\, flashing back to the moments of pain that defined her current life.
LOCATION:The Historic Theater 28 Chestnut Street Portsmouth\, NH
UID:e.1659.29704
SEQUENCE:3
DTSTAMP:20260421T181445Z
URL:https://business.portsmouthchamber.org/events/details/the-music-hall-presents-julieta-02-22-2017-29704
END:VEVENT

END:VCALENDAR
