BEGIN:VCALENDAR
VERSION:2.0
PRODID:-//ChamberMaster//Event Calendar 2.0//EN
METHOD:PUBLISH
X-PUBLISHED-TTL:P3D
REFRESH-INTERVAL:P3D
CALSCALE:GREGORIAN
BEGIN:VEVENT
DTSTART:20170303T000000Z
DTEND:20170303T020000Z
X-MICROSOFT-CDO-ALLDAYEVENT:FALSE
SUMMARY:The Music Hall presents: Krista Tippett
DESCRIPTION:The host of "On Being\," the celebrated public radio program\, delivers a master class in living for a fractured world. Don't miss this special evening with New York Times bestselling author and Peabody Award-winning broadcaster\, and her discussion of Becoming Wise\, just out in paperback.\n\n\n\nIn this remarkable book Krista Tippett has created a master class in living for a fractured world. Fracture\, she says\, is not the whole story of our time. The enduring question of what it means to be human has become inextricable from the challenge of who we are to each other.  She insists on the possibility of personal depth and common life for this century\, nurtured by science and "spiritual technologies\," with civility love as muscular public practice. And\, accompanied by a cross-disciplinary dream team of a teaching faculty\, she shows us how.\n\n\n\nKrista Tippett is a Peabody Award-winning broadcaster and New York Times bestselling author. In 2014\, she received the National Humanities Medal at the White House for "thoughtfully delving into the mysteries of human existence." She is the host of the public radio program and podcast On Being.
X-ALT-DESC;FMTTYPE=text/html:The host of &ldquo\;On Being\,&rdquo\; the celebrated public radio program\, delivers a master class in living for a fractured world. Don&rsquo\;t miss this special evening with New York Times bestselling author and Peabody Award-winning broadcaster\, and her discussion of Becoming Wise\, just out in paperback.<br />\n<br />\nIn this remarkable book Krista Tippett has created a master class in living for a fractured world. Fracture\, she says\, is not the whole story of our time. The enduring question of what it means to be human has become inextricable from the challenge of who we are to each other. &nbsp\;She insists on the possibility of personal depth and common life for this century\, nurtured by science and &ldquo\;spiritual technologies\,&rdquo\; with civility love as muscular public practice. And\, accompanied by a cross-disciplinary dream team of a teaching faculty\, she shows us how.<br />\n<br />\nKrista Tippett is a Peabody Award-winning broadcaster and New York Times bestselling author. In 2014\, she received the National Humanities Medal at the White House for &ldquo\;thoughtfully delving into the mysteries of human existence.&rdquo\; She is the host of the public radio program and podcast On Being.
LOCATION:The Historic Theater 28 Chestnut Street Portsmouth\, NH
UID:e.1659.29722
SEQUENCE:3
DTSTAMP:20260421T150036Z
URL:https://business.portsmouthchamber.org/events/details/the-music-hall-presents-krista-tippett-29722
END:VEVENT

END:VCALENDAR
