BEGIN:VCALENDAR
VERSION:2.0
PRODID:-//ChamberMaster//Event Calendar 2.0//EN
METHOD:PUBLISH
X-PUBLISHED-TTL:P3D
REFRESH-INTERVAL:P3D
CALSCALE:GREGORIAN
BEGIN:VEVENT
DTSTART:20170205T180000Z
DTEND:20170205T210000Z
X-MICROSOFT-CDO-ALLDAYEVENT:FALSE
SUMMARY:The Music Hall presents: L’Amour de Loin (Saariaho)
DESCRIPTION:HD broadcasts filmed live and streamed direct from Lincoln Center. One of the most highly praised operas of recent years\, which had its premiere at the Salzburg Festival in 2000\, Kaija Saariaho's yearning medieval romance L'Amour de Loin ("Love From Afar")\, has its Met premiere this season. The production is by Robert Lepage\, co-produced with L'Op ra de Qu bec\, where it premiered to acclaim last summer\, in collaboration with Ex Machina. Debuting Finnish conductor Susanna M lkki leads the performance\, which stars Susanna Phillips as Cl mence\, Eric Owens as Jaufr \, and Tamara Mumford as the Pilgrim who carries messages of love between them.
X-ALT-DESC;FMTTYPE=text/html:HD broadcasts filmed live and streamed direct from Lincoln Center. One of the most highly praised operas of recent years\, which had its premiere at the Salzburg Festival in 2000\, Kaija Saariaho&rsquo\;s yearning medieval romance L&rsquo\;Amour de Loin (&ldquo\;Love From Afar&rdquo\;)\, has its Met premiere this season. The production is by Robert Lepage\, co-produced with L&rsquo\;Op&eacute\;ra de Qu&eacute\;bec\, where it premiered to acclaim last summer\, in collaboration with Ex Machina. Debuting Finnish conductor Susanna M&auml\;lkki leads the performance\, which stars Susanna Phillips as Cl&eacute\;mence\, Eric Owens as Jaufr&eacute\;\, and Tamara Mumford as the Pilgrim who carries messages of love between them.&nbsp\;
LOCATION:The Historic Theater 28 Chestnut Street Portsmouth\, NH
UID:e.1659.29683
SEQUENCE:3
DTSTAMP:20260421T164218Z
URL:https://business.portsmouthchamber.org/events/details/the-music-hall-presents-l-amour-de-loin-saariaho-29683
END:VEVENT

END:VCALENDAR
