BEGIN:VCALENDAR
VERSION:2.0
PRODID:-//ChamberMaster//Event Calendar 2.0//EN
METHOD:PUBLISH
X-PUBLISHED-TTL:P3D
REFRESH-INTERVAL:P3D
CALSCALE:GREGORIAN
BEGIN:VEVENT
DTSTART:20170304T010000Z
DTEND:20170304T030000Z
X-MICROSOFT-CDO-ALLDAYEVENT:FALSE
SUMMARY:The Music Hall presents Marc Maron: The Too Real Tour
DESCRIPTION:For over twenty years\, Marc Maron has been writing and performing raw\, honest\, and thought-provoking comedy for print\, stage\, radio\, online\, and television. A legend in the stand-up community\, Maron has appeared on many television talk shows\, including David Letterman\, Craig Ferguson\, Jimmy Fallon\, Jimmy Kimmel\, Seth Meyers\, Charlie Rose\, and Bill Maher. He has appeared on Conan O'Brien more than any other comedian.\n\n\n\nOn the small screen\, Maron's critically acclaimed half-hour scripted series\, Maron\, will premiere its fourth season on IFC this May. The show was created\, written\, and produced by Maron\, who also directed episodes in seasons 2 and 3.\n\n\n\nMaron's podcast\, WTF with Marc Maron\, premiered in September 2009 and features compelling monologues and interviews with iconic personalities such as Conan O'Brien\, Terry Gross\, Robin Williams\, Keith Richards\, Ben Stiller\, Lorne Michaels and President Barack Obama.
X-ALT-DESC;FMTTYPE=text/html:For over twenty years\, Marc Maron has been writing and performing raw\, honest\, and thought-provoking comedy for print\, stage\, radio\, online\, and television. A legend in the stand-up community\, Maron has appeared on many television talk shows\, including David Letterman\, Craig Ferguson\, Jimmy Fallon\, Jimmy Kimmel\, Seth Meyers\, Charlie Rose\, and Bill Maher. He has appeared on Conan O&rsquo\;Brien more than any other comedian.<br />\n<br />\nOn the small screen\, Maron&rsquo\;s critically acclaimed half-hour scripted series\, Maron\, will premiere its fourth season on IFC this May. The show was created\, written\, and produced by Maron\, who also directed episodes in seasons 2 and 3.<br />\n<br />\nMaron&rsquo\;s podcast\, WTF with Marc Maron\, premiered in September 2009 and features compelling monologues and interviews with iconic personalities such as Conan O&rsquo\;Brien\, Terry Gross\, Robin Williams\, Keith Richards\, Ben Stiller\, Lorne Michaels and President Barack Obama.
LOCATION:The Historic Theater 28 Chestnut Street\, Portsmouth
UID:e.1659.30057
SEQUENCE:3
DTSTAMP:20260421T151259Z
URL:https://business.portsmouthchamber.org/events/details/the-music-hall-presents-marc-maron-the-too-real-tour-30057
END:VEVENT

END:VCALENDAR
