BEGIN:VCALENDAR
VERSION:2.0
PRODID:-//ChamberMaster//Event Calendar 2.0//EN
METHOD:PUBLISH
X-PUBLISHED-TTL:P3D
REFRESH-INTERVAL:P3D
CALSCALE:GREGORIAN
BEGIN:VEVENT
DTSTART:20170211T003000Z
DTEND:20170211T023000Z
X-MICROSOFT-CDO-ALLDAYEVENT:FALSE
SUMMARY:The Music Hall presents: Mike McDonald's Comedy Xxtravaganza
DESCRIPTION:Funnyman Mike McDonald returns to The Music Hall's big room with a monster line up of headline comedians to split your ribcage with punchlines to the funnybone. Anchoring the show with Mike will be America's Got Talent Finalist Wendy Liebman\, Joe List (Louie CK's opening act at Carnegie Hall) Ken "The Viper" Rogerson and the great Tony V. Tom West on piano.
X-ALT-DESC;FMTTYPE=text/html:Funnyman Mike McDonald returns to The Music Hall&rsquo\;s big room with a monster line up of headline comedians to split your ribcage with punchlines to the funnybone. Anchoring the show with Mike will be America&rsquo\;s Got Talent Finalist Wendy Liebman\, Joe List (Louie CK&rsquo\;s opening act at Carnegie Hall) Ken &ldquo\;The Viper&rdquo\; Rogerson and the great Tony V. Tom West on piano.
LOCATION:The Historic Theater 28 Chestnut Street Portsmouth\, NH
UID:e.1659.29694
SEQUENCE:3
DTSTAMP:20260421T181313Z
URL:https://business.portsmouthchamber.org/events/details/the-music-hall-presents-mike-mcdonald-s-comedy-xxtravaganza-29694
END:VEVENT

END:VCALENDAR
