BEGIN:VCALENDAR
VERSION:2.0
PRODID:-//ChamberMaster//Event Calendar 2.0//EN
METHOD:PUBLISH
X-PUBLISHED-TTL:P3D
REFRESH-INTERVAL:P3D
CALSCALE:GREGORIAN
BEGIN:VEVENT
DTSTART:20170219T010000Z
DTEND:20170219T030000Z
X-MICROSOFT-CDO-ALLDAYEVENT:FALSE
SUMMARY:The Music Hall presents- Momix: Opus Cactus
DESCRIPTION:Opus Cactus is back again with a new look\, fresh energy\, and fun surprises! Moses Pendleton brings the landscape of the American Southwest to life with his signature illusionistic style creating dynamic images of cactuses\, slithering lizards and fire dancers. Originally created as a 20-minute piece in 2001 for Ballet Arizona\, Opus Cactus was then brought back to MOMIX's repertory and a full-evening work was created.
X-ALT-DESC;FMTTYPE=text/html:Opus Cactus is back again with a new look\, fresh energy\, and fun surprises! Moses Pendleton brings the landscape of the American Southwest to life with his signature illusionistic style creating dynamic images of cactuses\, slithering lizards and fire dancers. Originally created as a 20-minute piece in 2001 for Ballet Arizona\, Opus Cactus was then brought back to MOMIX&rsquo\;s repertory and a full-evening work was created.
LOCATION:The Historic Theater 28 Chestnut Street Portsmouth\, NH
UID:e.1659.29700
SEQUENCE:3
DTSTAMP:20260421T163734Z
URL:https://business.portsmouthchamber.org/events/details/the-music-hall-presents-momix-opus-cactus-29700
END:VEVENT

END:VCALENDAR
