BEGIN:VCALENDAR
VERSION:2.0
PRODID:-//ChamberMaster//Event Calendar 2.0//EN
METHOD:PUBLISH
X-PUBLISHED-TTL:P3D
REFRESH-INTERVAL:P3D
CALSCALE:GREGORIAN
BEGIN:VEVENT
DTSTART:20170107T180000Z
DTEND:20170107T200000Z
X-MICROSOFT-CDO-ALLDAYEVENT:FALSE
SUMMARY:The Music Hall presents: Nabucco (Verdi)
DESCRIPTION:et Music Director James Levine conducts Verdi's early drama of Ancient Babylon\, Nabucco\, with Pl cido Domingo adding a new role to his repertory as the title character. Liudmyla Monastyrska sings the tour-de-force role of Abigaille\, Nabucco's willful daughter\, with Jamie Barton as Fenena\, Russell Thomas as Ismaele\, and Dmitri Belosselskiy as the prophet Zaccaria\, the role of his 2011 Met debut.
X-ALT-DESC;FMTTYPE=text/html:et Music Director James Levine conducts Verdi&rsquo\;s early drama of Ancient Babylon\, Nabucco\, with Pl&aacute\;cido Domingo adding a new role to his repertory as the title character. Liudmyla Monastyrska sings the tour-de-force role of Abigaille\, Nabucco&rsquo\;s willful daughter\, with Jamie Barton as Fenena\, Russell Thomas as Ismaele\, and Dmitri Belosselskiy as the prophet Zaccaria\, the role of his 2011 Met debut.
LOCATION:The Historic Theater 28 Chestnut Street Portsmouth\, NH
UID:e.1659.29602
SEQUENCE:3
DTSTAMP:20260421T182151Z
URL:https://business.portsmouthchamber.org/events/details/the-music-hall-presents-nabucco-verdi-29602
END:VEVENT

END:VCALENDAR
