BEGIN:VCALENDAR
VERSION:2.0
PRODID:-//ChamberMaster//Event Calendar 2.0//EN
METHOD:PUBLISH
X-PUBLISHED-TTL:P3D
REFRESH-INTERVAL:P3D
CALSCALE:GREGORIAN
BEGIN:VEVENT
DTSTART:20170430T200000Z
DTEND:20170430T220000Z
X-MICROSOFT-CDO-ALLDAYEVENT:FALSE
SUMMARY:The Music Hall presents: Neruda
DESCRIPTION:Selected for Telluride by the Sea 2016. Pablo Larra n's (Jackie) portrait of the great Chilean poet Pablo Neruda's years of flight and exile after his 1948 denunciation of his government's leadership. Larra n's blend of fact and fancy - the latter embodied in an invented character\, straight out of detective fiction\, played by Gael Garc a Bernal. Featuring Luis Gnecco\, a dead ringer for the poet and a formidable actor\, alongside a terrific cast.
X-ALT-DESC;FMTTYPE=text/html:Selected for Telluride by the Sea 2016. Pablo Larra&iacute\;n&rsquo\;s (Jackie) portrait of the great Chilean poet Pablo Neruda&rsquo\;s years of flight and exile after his 1948 denunciation of his government&rsquo\;s leadership. Larra&iacute\;n&rsquo\;s blend of fact and fancy - the latter embodied in an invented character\, straight out of detective fiction\, played by Gael Garc&iacute\;a Bernal. Featuring Luis Gnecco\, a dead ringer for the poet and a formidable actor\, alongside a terrific cast.
LOCATION:The Music Hall Loft 131 Congress Street Portsmouth\, NH
UID:e.1659.30284
SEQUENCE:3
DTSTAMP:20260421T131742Z
URL:https://business.portsmouthchamber.org/events/details/the-music-hall-presents-neruda-30284
END:VEVENT

END:VCALENDAR
