BEGIN:VCALENDAR
VERSION:2.0
PRODID:-//ChamberMaster//Event Calendar 2.0//EN
METHOD:PUBLISH
X-PUBLISHED-TTL:P3D
REFRESH-INTERVAL:P3D
CALSCALE:GREGORIAN
BEGIN:VEVENT
DTSTART:20170219T180000Z
DTEND:20170219T210000Z
X-MICROSOFT-CDO-ALLDAYEVENT:FALSE
SUMMARY:The Music Hall presents: No Man's Land
DESCRIPTION:Following their hit run on Broadway\, Ian McKellen and Patrick Stewart return to the West End stage in Harold Pinter's No Man's Land\, broadcast live to cinemas from Wyndham's Theatre\, London.\n\n\n\nOne summer's evening\, two aging writers\, Hirst and Spooner\, meet in a Hampstead pub and continue their drinking into the night at Hirst's stately house nearby.  As the pair become increasingly inebriated\, and their stories increasingly unbelievable\, the lively conversation soon turns into a revealing power game\, further complicated by the return home of two sinister younger men.\n\n\n\nAlso starring Owen Teale and Damien Molony\, don't miss this glorious revival of Pinter's comic classic. The broadcast will be followed by an exclusive Q&A with the cast and director Sean Mathias.
X-ALT-DESC;FMTTYPE=text/html:Following their hit run on Broadway\, Ian McKellen and Patrick Stewart return to the West End stage in Harold Pinter&rsquo\;s No Man&rsquo\;s Land\, broadcast live to cinemas from Wyndham&rsquo\;s Theatre\, London.<br />\n<br />\nOne summer&rsquo\;s evening\, two aging writers\, Hirst and Spooner\, meet in a Hampstead pub and continue their drinking into the night at Hirst&rsquo\;s stately house nearby. &nbsp\;As the pair become increasingly inebriated\, and their stories increasingly unbelievable\, the lively conversation soon turns into a revealing power game\, further complicated by the return home of two sinister younger men.<br />\n<br />\nAlso starring Owen Teale and Damien Molony\, don&rsquo\;t miss this glorious revival of Pinter&rsquo\;s comic classic. The broadcast will be followed by an exclusive Q&amp\;A with the cast and director Sean Mathias.
LOCATION:The Music Hall Loft 131 Congress Street Portsmouth\, NH
UID:e.1659.29701
SEQUENCE:3
DTSTAMP:20260421T164120Z
URL:https://business.portsmouthchamber.org/events/details/the-music-hall-presents-no-man-s-land-29701
END:VEVENT

END:VCALENDAR
