BEGIN:VCALENDAR
VERSION:2.0
PRODID:-//ChamberMaster//Event Calendar 2.0//EN
METHOD:PUBLISH
X-PUBLISHED-TTL:P3D
REFRESH-INTERVAL:P3D
CALSCALE:GREGORIAN
BEGIN:VEVENT
DTSTART:20170225T163000Z
DTEND:20170225T180000Z
X-MICROSOFT-CDO-ALLDAYEVENT:FALSE
SUMMARY:The Music Hall presents: Opera Connection: Rusalka (Dvorák)
DESCRIPTION:Opera expert/writer-producer Dennis Neil Kleinman will lead a lively discussion on Rusalka. Doors open an hour before   come early for coffee and pastries!\n\n\n\nWhether you are a seasoned Opera buff or someone who has always wondered 'What's the fuss?'\, 'What's a libretto?' or maybe even 'Why the funny hats?'\, The Opera Connection will give you something to sing about. Hosted by cultural historian/composer Dennis Neil Kleinman\, the Opera Connection will present lively\, engaging\, jargon-free discussions before selected Met @ The Music Hall broadcasts this season\, the perfect way to enhance and enrich your enjoyment of these magnificent works. So if you don't get opera\, or if you want to get it on a whole new level Get Connected!
X-ALT-DESC;FMTTYPE=text/html:Opera expert/writer-producer Dennis Neil Kleinman will lead a lively discussion on Rusalka. Doors open an hour before &ndash\; come early for coffee and pastries!<br />\n<br />\nWhether you are a seasoned Opera buff or someone who has always wondered &lsquo\;What&rsquo\;s the fuss?&rsquo\;\, &lsquo\;What&rsquo\;s a libretto?&rsquo\; or maybe even &lsquo\;Why the funny hats?&rsquo\;\, The Opera Connection will give you something to sing about. Hosted by cultural historian/composer Dennis Neil Kleinman\, the Opera Connection will present lively\, engaging\, jargon-free discussions before selected Met @ The Music Hall broadcasts this season\, the perfect way to enhance and enrich your enjoyment of these magnificent works. So if you don&rsquo\;t get opera\, or if you want to get it on a whole new level&hellip\;Get Connected!
LOCATION:The Music Hall Loft 131 Congress Street Portsmouth\, NH
UID:e.1659.29713
SEQUENCE:3
DTSTAMP:20260421T163659Z
URL:https://business.portsmouthchamber.org/events/details/the-music-hall-presents-opera-connection-rusalka-dvor&#225;k-29713
END:VEVENT

END:VCALENDAR
