BEGIN:VCALENDAR
VERSION:2.0
PRODID:-//ChamberMaster//Event Calendar 2.0//EN
METHOD:PUBLISH
X-PUBLISHED-TTL:P3D
REFRESH-INTERVAL:P3D
CALSCALE:GREGORIAN
BEGIN:VEVENT
DTSTART;VALUE=DATE:20170208
DTEND;VALUE=DATE:20170209
TRANSP:TRANSPARENT
X-MICROSOFT-CDO-ALLDAYEVENT:TRUE
SUMMARY:The Music Hall presents: Peter and the Farm
DESCRIPTION:Peter Dunning is the proud proprietor of Mile Hill Farm\, which sits on 187 acres in Vermont. The land's 38 harvests have seen the arrivals and departures of three wives and four children\, leaving Peter with only animals and memories. The arrival of the documentary crew causes him to confront his history and his legacy\, passing along hard-won agricultural wisdom even as he doubts the meaning of the work he is fated to perform until death.
X-ALT-DESC;FMTTYPE=text/html:Peter Dunning is the proud proprietor of Mile Hill Farm\, which sits on 187 acres in Vermont. The land&rsquo\;s 38 harvests have seen the arrivals and departures of three wives and four children\, leaving Peter with only animals and memories. The arrival of the documentary crew causes him to confront his history and his legacy\, passing along hard-won agricultural wisdom even as he doubts the meaning of the work he is fated to perform until death.
LOCATION:The Music Hall Loft 131 Congress Street Portsmouth\, NH
UID:e.1659.29689
SEQUENCE:3
DTSTAMP:20260421T163950Z
URL:https://business.portsmouthchamber.org/events/details/the-music-hall-presents-peter-and-the-farm-02-08-2017-29689
END:VEVENT

END:VCALENDAR
