BEGIN:VCALENDAR
VERSION:2.0
PRODID:-//ChamberMaster//Event Calendar 2.0//EN
METHOD:PUBLISH
X-PUBLISHED-TTL:P3D
REFRESH-INTERVAL:P3D
CALSCALE:GREGORIAN
BEGIN:VEVENT
DTSTART:20170302T000000Z
DTEND:20170302T020000Z
X-MICROSOFT-CDO-ALLDAYEVENT:FALSE
SUMMARY:The Music Hall presents: Reel Rock Festival 11
DESCRIPTION:This year\, REEL ROCK cranks it up to 11 with their latest collection of electrifying climbing films showcasing the sport's biggest stories and athletes. The five new films deliver edge-of-your-seat action\, globe-trotting exploration\, big laughs and true inspiration.
X-ALT-DESC;FMTTYPE=text/html:This year\, REEL ROCK cranks it up to 11 with their latest collection of electrifying climbing films showcasing the sport&rsquo\;s biggest stories and athletes. The five new films deliver edge-of-your-seat action\, globe-trotting exploration\, big laughs and true inspiration.
LOCATION:The Historic Theater 28 Chestnut Street Portsmouth\, NH
UID:e.1659.29721
SEQUENCE:3
DTSTAMP:20260421T164419Z
URL:https://business.portsmouthchamber.org/events/details/the-music-hall-presents-reel-rock-festival-11-29721
END:VEVENT

END:VCALENDAR
