BEGIN:VCALENDAR
VERSION:2.0
PRODID:-//ChamberMaster//Event Calendar 2.0//EN
METHOD:PUBLISH
X-PUBLISHED-TTL:P3D
REFRESH-INTERVAL:P3D
CALSCALE:GREGORIAN
BEGIN:VEVENT
DTSTART:20170225T180000Z
DTEND:20170225T221500Z
X-MICROSOFT-CDO-ALLDAYEVENT:FALSE
SUMMARY:The Music Hall presents: Rusalka (Dvorák)
DESCRIPTION:HD broadcasts filmed live and streamed direct from Lincoln Center. Kristine Opolais stars in a new production of the opera that first won her international acclaim\, Dvo  k's fairy-tale opera about the tragic water nymph Rusalka. Sir Mark Elder conducts Mary Zimmerman's new staging\, which also stars Brandon Jovanovich as the human prince who captures Rusalka's heart\; Katarina Dalayman as Rusalka's rival\, the Foreign Princess\; Eric Owens as the Water Sprite\, Rusalka's father\; and Jamie Barton as the duplicitous witch Je?ibaba.
X-ALT-DESC;FMTTYPE=text/html:<span style="color: rgb(102\, 102\, 102)\; font-family: &quot\;Droid Sans&quot\;\, &quot\;Lucida Grande&quot\;\, Arial\, sans-serif\; font-size: 15.4px\;">HD broadcasts filmed live and streamed direct from Lincoln Center. Kristine Opolais stars in a new production of the opera that first won her international acclaim\, Dvo&#345\;&aacute\;k&rsquo\;s fairy-tale opera about the tragic water nymph Rusalka. Sir Mark Elder conducts Mary Zimmerman&rsquo\;s new staging\, which also stars Brandon Jovanovich as the human prince who captures Rusalka&rsquo\;s heart\; Katarina Dalayman as Rusalka&rsquo\;s rival\, the Foreign Princess\; Eric Owens as the Water Sprite\, Rusalka&rsquo\;s father\; and Jamie Barton as the duplicitous witch Je?ibaba.</span>
LOCATION:The Historic Theater 28 Chestnut Street Portsmouth\, NH
UID:e.1659.29714
SEQUENCE:3
DTSTAMP:20260421T163738Z
URL:https://business.portsmouthchamber.org/events/details/the-music-hall-presents-rusalka-dvor&#225;k-29714
END:VEVENT

END:VCALENDAR
