BEGIN:VCALENDAR
VERSION:2.0
PRODID:-//ChamberMaster//Event Calendar 2.0//EN
METHOD:PUBLISH
X-PUBLISHED-TTL:P3D
REFRESH-INTERVAL:P3D
CALSCALE:GREGORIAN
BEGIN:VEVENT
DTSTART:20170207T000000Z
DTEND:20170207T020000Z
X-MICROSOFT-CDO-ALLDAYEVENT:FALSE
SUMMARY:The Music Hall presents: Scott Bradlee's Postmodern Jukebox
DESCRIPTION:Scott Bradlee's Postmodern Jukebox is a genre-busting\, rotating collective of musicians and vocalists that reimagines modern pop hits in the style of jazz\, ragtime\, and swing classics of the 1920s-1950s. As arranger and producer\, Bradlee has assembled a multi-talented group of performers who rework versions of popular modern songs. The music videos of these collaborative covers have become viral sensations with millions of views on YouTube. An act that crosses all musical boundaries and generations\, Postmodern Jukebox has developed a niche all its own\, and performs a live show unlike any other   a must-see for anyone who loves jaw-dropping live performances.
X-ALT-DESC;FMTTYPE=text/html:Scott Bradlee&rsquo\;s Postmodern Jukebox is a genre-busting\, rotating collective of musicians and vocalists that reimagines modern pop hits in the style of jazz\, ragtime\, and swing classics of the 1920s-1950s. As arranger and producer\, Bradlee has assembled a multi-talented group of performers who rework versions of popular modern songs. The music videos of these collaborative covers have become viral sensations with millions of views on YouTube. An act that crosses all musical boundaries and generations\, Postmodern Jukebox has developed a niche all its own\, and performs a live show unlike any other &ndash\; a must-see for anyone who loves jaw-dropping live performances.
LOCATION:The Historic Theater 28 Chestnut Street Portsmouth\, NH
UID:e.1659.29684
SEQUENCE:3
DTSTAMP:20260421T163739Z
URL:https://business.portsmouthchamber.org/events/details/the-music-hall-presents-scott-bradlee-s-postmodern-jukebox-29684
END:VEVENT

END:VCALENDAR
