BEGIN:VCALENDAR
VERSION:2.0
PRODID:-//ChamberMaster//Event Calendar 2.0//EN
METHOD:PUBLISH
X-PUBLISHED-TTL:P3D
REFRESH-INTERVAL:P3D
CALSCALE:GREGORIAN
BEGIN:VEVENT
DTSTART:20170104T000000Z
DTEND:20170104T020000Z
X-MICROSOFT-CDO-ALLDAYEVENT:FALSE
SUMMARY:The Music Hall presents: Seasons
DESCRIPTION:Winged Migrations and Oceans filmmakers Jacques Perrin and Jacques Cluzaud return to the lush forests that emerged across Europe following the last Ice Age. Winter had gone on for 80\,000 years when\, in a short period of time the ice retreated\, the cycle of seasons was established and the beasts occupied their new kingdom. With its exceptional footage of animals in the wild\, this is the awe-inspiring and thought-provoking tale of the long shared history that binds humankind with the natural world.
X-ALT-DESC;FMTTYPE=text/html:Winged Migrations and Oceans filmmakers Jacques Perrin and Jacques Cluzaud return to the lush forests that emerged across Europe following the last Ice Age. Winter had gone on for 80\,000 years when\, in a short period of time the ice retreated\, the cycle of seasons was established and the beasts occupied their new kingdom. With its exceptional footage of animals in the wild\, this is the awe-inspiring and thought-provoking tale of the long shared history that binds humankind with the natural world.
LOCATION:The Historic Theater 28 Chestnut Street Portsmouth\, NH 03801
UID:e.1659.28211
SEQUENCE:3
DTSTAMP:20260421T182018Z
URL:https://business.portsmouthchamber.org/events/details/the-music-hall-presents-seasons-28211
END:VEVENT

END:VCALENDAR
