BEGIN:VCALENDAR
VERSION:2.0
PRODID:-//ChamberMaster//Event Calendar 2.0//EN
METHOD:PUBLISH
X-PUBLISHED-TTL:P3D
REFRESH-INTERVAL:P3D
CALSCALE:GREGORIAN
BEGIN:VEVENT
DTSTART;VALUE=DATE:20170207
DTEND;VALUE=DATE:20170208
TRANSP:TRANSPARENT
X-MICROSOFT-CDO-ALLDAYEVENT:TRUE
SUMMARY:The Music Hall presents: Things to Come
DESCRIPTION:Part of Telluride by the Sea 2016. From Writer/Director Mia Hansen-Love. Nathalie (Isabelle Huppert) teaches philosophy at a high school in Paris. She is passionate about her job and particularly enjoys passing on the pleasure of thinking. Married with two children\, she divides her time between her family\, former students and her very possessive mother. One day\, Nathalie's husband announces he is leaving her for another woman. With freedom thrust upon her\, Nathalie must reinvent her life.
X-ALT-DESC;FMTTYPE=text/html:Part of Telluride by the Sea 2016. From Writer/Director Mia Hansen-Love. Nathalie (Isabelle Huppert) teaches philosophy at a high school in Paris. She is passionate about her job and particularly enjoys passing on the pleasure of thinking. Married with two children\, she divides her time between her family\, former students and her very possessive mother. One day\, Nathalie&rsquo\;s husband announces he is leaving her for another woman. With freedom thrust upon her\, Nathalie must reinvent her life.
LOCATION:The Historic Theater 28 Chestnut Street Portsmouth\, NH
UID:e.1659.29685
SEQUENCE:3
DTSTAMP:20260421T180012Z
URL:https://business.portsmouthchamber.org/events/details/the-music-hall-presents-things-to-come-29685
END:VEVENT

END:VCALENDAR
