BEGIN:VCALENDAR
VERSION:2.0
PRODID:-//ChamberMaster//Event Calendar 2.0//EN
METHOD:PUBLISH
X-PUBLISHED-TTL:P3D
REFRESH-INTERVAL:P3D
CALSCALE:GREGORIAN
BEGIN:VEVENT
DTSTART:20170521T170000Z
DTEND:20170521T190000Z
X-MICROSOFT-CDO-ALLDAYEVENT:FALSE
SUMMARY:The Music Hall presents: Twelfth Night
DESCRIPTION:Tamsin Greig is Malvolia in a new twist on Shakespeare's classic comedy of mistaken identity.\n\n\n\nA ship is wrecked on the rocks. Viola is washed ashore but her twin brother Sebastian is lost. Determined to survive on her own\, she steps out to explore a new land. So begins a whirlwind of mistaken identity and unrequited love.\n\n\n\nThe nearby households of Olivia and Orsino are overrun with passion. Even Olivia's upright housekeeper Malvolia is swept up in the madness. Where music is the food of love\, and nobody is quite what they seem\, anything proves possible.\n\n\n\nSimon Godwin (NT Live: Man and Superman\, NT Live: The Beaux' Stratagem) directs this joyous new production with Tamsin Greig (Friday Night Dinner\, Black Books\, Episodes) as a transformed Malvolia and an ensemble cast that includes Daniel Rigby (Flowers\, Jericho)\, Tamara Lawrence (Undercover)\, Doon Mackichan (Smack the Pony) and Daniel Ezra (The Missing\, Undercover).\n\n\n\n3h30m   Suitable for audiences 12+
X-ALT-DESC;FMTTYPE=text/html:Tamsin&nbsp\;Greig&nbsp\;is&nbsp\;Malvolia&nbsp\;in a new twist on Shakespeare&rsquo\;s classic comedy of mistaken identity.<br />\n<br />\nA ship is wrecked on the rocks. Viola is washed ashore but her twin brother Sebastian is lost. Determined to survive on her own\, she steps out to explore a new land. So begins a whirlwind of mistaken identity and unrequited love.<br />\n<br />\nThe nearby households of Olivia and&nbsp\;Orsino&nbsp\;are overrun with passion. Even Olivia&rsquo\;s upright housekeeper&nbsp\;Malvolia&nbsp\;is swept up in the madness. Where music is the food of love\, and nobody is quite what they seem\, anything proves possible.<br />\n<br />\nSimon Godwin (NT Live: Man and Superman\, NT Live: The Beaux&rsquo\; Stratagem) directs this joyous new production with&nbsp\;Tamsin&nbsp\;Greig&nbsp\;(Friday Night Dinner\, Black Books\, Episodes) as a transformed&nbsp\;Malvolia&nbsp\;and an ensemble cast that includes Daniel Rigby (Flowers\, Jericho)\, Tamara Lawrence (Undercover)\,&nbsp\;Doon&nbsp\;Mackichan&nbsp\;(Smack the Pony) and Daniel Ezra (The Missing\, Undercover).<br />\n<br />\n3h30m&nbsp\;&bull\; Suitable for audiences 12+
LOCATION:The Music Hall Loft 131 Congress Street Portsmouth\, NH
UID:e.1659.30304
SEQUENCE:3
DTSTAMP:20260421T115254Z
URL:https://business.portsmouthchamber.org/events/details/the-music-hall-presents-twelfth-night-30304
END:VEVENT

END:VCALENDAR
