BEGIN:VCALENDAR
VERSION:2.0
PRODID:-//ChamberMaster//Event Calendar 2.0//EN
METHOD:PUBLISH
X-PUBLISHED-TTL:P3D
REFRESH-INTERVAL:P3D
CALSCALE:GREGORIAN
BEGIN:VEVENT
DTSTART:20170217T003000Z
DTEND:20170217T023000Z
X-MICROSOFT-CDO-ALLDAYEVENT:FALSE
SUMMARY:The Music Hall presents: Will Dailey
DESCRIPTION:With a sound that's been described as having a rich vintage vibe that also has a firm appreciation of AM rock\, pop\, and big hooks his music has been amplified by acclaim. Dailey's latest album\, National Throat\, has been met with stellar reviews\, over 6 million spins on Spotify\, top 20 on Billboard Heat Seeker chart and won Album of the Year in the Boston Music Awards\, New England Music Awards and Improper Bostonian Magazine. His layered songwriting allows him to hold his ground next to artists like Neil Young and Willie Nelson.
X-ALT-DESC;FMTTYPE=text/html:With a sound that&rsquo\;s been described as having a rich vintage vibe that also has a firm appreciation of AM rock\, pop\, and big hooks his music has been amplified by acclaim. Dailey&rsquo\;s latest album\, National Throat\, has been met with stellar reviews\, over 6 million spins on Spotify\, top 20 on Billboard Heat Seeker chart and won Album of the Year in the Boston Music Awards\, New England Music Awards and Improper Bostonian Magazine. His layered songwriting allows him to hold his ground next to artists like Neil Young and Willie Nelson.&nbsp\;
LOCATION:The Music Hall Loft 131 Congress Street Portsmouth\, NH
UID:e.1659.29699
SEQUENCE:3
DTSTAMP:20260421T163529Z
URL:https://business.portsmouthchamber.org/events/details/the-music-hall-presents-will-dailey-29699
END:VEVENT

END:VCALENDAR
