BEGIN:VCALENDAR
VERSION:2.0
PRODID:-//ChamberMaster//Event Calendar 2.0//EN
METHOD:PUBLISH
X-PUBLISHED-TTL:P3D
REFRESH-INTERVAL:P3D
CALSCALE:GREGORIAN
BEGIN:VEVENT
DTSTART:20170323T233000Z
DTEND:20170324T013000Z
X-MICROSOFT-CDO-ALLDAYEVENT:FALSE
SUMMARY:The Music Hall's Historic Theater presents: Chris Botti
DESCRIPTION:Since the release of his 2004 critically acclaimed CD When I Fall In Love\, Chris Botti has become the largest-selling American instrumental artist. His success has crossed over to audiences usually reserved for pop music and his ongoing association with PBS has led to four #1 jazz albums\, as well as multiple Gold\, Platinum\, and Grammy Awards. Most recently\, his latest album\, Impressions\, won the Grammy for Best Pop Instrumental Album. Performing worldwide and selling more than four million albums\, he has found a form of creative expression that begins in jazz and expands beyond the limits of any single genre.
X-ALT-DESC;FMTTYPE=text/html:Since the release of his 2004 critically acclaimed CD When I Fall In Love\, Chris Botti has become the largest-selling American instrumental artist. His success has crossed over to audiences usually reserved for pop music and his ongoing association with PBS has led to four #1 jazz albums\, as well as multiple Gold\, Platinum\, and Grammy Awards. Most recently\, his latest album\, Impressions\, won the Grammy for Best Pop Instrumental Album. Performing worldwide and selling more than four million albums\, he has found a form of creative expression that begins in jazz and expands beyond the limits of any single genre.
LOCATION:The Historic Theater 28 Chestnut Street Portsmouth\, NH
UID:e.1659.30227
SEQUENCE:3
DTSTAMP:20260421T164137Z
URL:https://business.portsmouthchamber.org/events/details/the-music-hall-s-historic-theater-presents-chris-botti-30227
END:VEVENT

END:VCALENDAR
