BEGIN:VCALENDAR
VERSION:2.0
PRODID:-//ChamberMaster//Event Calendar 2.0//EN
METHOD:PUBLISH
X-PUBLISHED-TTL:P3D
REFRESH-INTERVAL:P3D
CALSCALE:GREGORIAN
BEGIN:VEVENT
DTSTART:20170309T003000Z
DTEND:20170309T030000Z
X-MICROSOFT-CDO-ALLDAYEVENT:FALSE
SUMMARY:The Music Hall Theater presents: A Very Intimate Acoustic Evening with Pat Benatar & Neil Giraldo
DESCRIPTION:Pat Benatar: she's always been a rule-breaker and a trailblazer\, she remains a bold and distinctive artist both on stage and on record\, and now\, after more than three decades in rock 'n' roll\, she's a bonafide living legend.\n\n\n\n\n\nNeil "Spyder" James Giraldo\, has been a professional musician\, producer\, arranger and songwriter for over four decades now\, changing the face of the pop charts throughout the 1980s with his collaborator\, muse and wife\, Pat Benatar. More than just an explosive steel bending guitar player\, Giraldo's innovative vision helped him create the signature Benatar sound\, from its inception.\n\n\n\n\n\nTogether these rock 'n' roll powerhouses have been selling out concerts and wowing audiences after over three decades. Theirs is a chemistry that will\, undoubtedly\, be thrilling music-lovers forever.
X-ALT-DESC;FMTTYPE=text/html:Pat Benatar: she&rsquo\;s always been a rule-breaker and a trailblazer\, she remains a bold and distinctive artist both on stage and on record\, and now\, after more than three decades in rock &lsquo\;n&rsquo\; roll\, she&rsquo\;s a bonafide living legend.<br />\n<br />\n<br />\nNeil &ldquo\;Spyder&ldquo\; James Giraldo\, has been a professional musician\, producer\, arranger and songwriter for over four decades now\, changing the face of the pop charts throughout the 1980s with his collaborator\, muse and wife\, Pat Benatar. More than just an explosive steel bending guitar player\, Giraldo&rsquo\;s innovative vision helped him create the signature Benatar sound\, from its inception.<br />\n<br />\n<br />\nTogether these rock &lsquo\;n&rsquo\; roll powerhouses have been selling out concerts and wowing audiences after over three decades. Theirs is a chemistry that will\, undoubtedly\, be thrilling music-lovers forever.
LOCATION:The Historic Theater 28 Chestnut Street Portsmouth\, NH
UID:e.1659.30066
SEQUENCE:3
DTSTAMP:20260421T151728Z
URL:https://business.portsmouthchamber.org/events/details/the-music-hall-theater-presents-a-very-intimate-acoustic-evening-with-pat-benatar-neil-giraldo-30066
END:VEVENT

END:VCALENDAR
