BEGIN:VCALENDAR
VERSION:2.0
PRODID:-//ChamberMaster//Event Calendar 2.0//EN
METHOD:PUBLISH
X-PUBLISHED-TTL:P3D
REFRESH-INTERVAL:P3D
CALSCALE:GREGORIAN
BEGIN:VEVENT
DTSTART;VALUE=DATE:20170315
DTEND;VALUE=DATE:20170316
TRANSP:TRANSPARENT
X-MICROSOFT-CDO-ALLDAYEVENT:TRUE
SUMMARY:The Music Hall Theater presents: BANFF Mountain Film Festival
DESCRIPTION:The Banff Mountain Film Festival World Tour kicks off immediately following the Book and Film Festival held annually in November in Banff\, Alberta\, Canada. A selection of the top films submitted to the Festival go on a tour around the world with stops in about 450 communities and 40 countries. Films feature action-packed adventure\, high- adrenaline sports and fascinating culture that keep you on the edge of your seat.  Year after year\, this show sells out and now the popular film festival is returning to the Music Hall for two nights!\n\n\n\nEach night will feature different films.\n\n\n\nTuesday\, March 14\n\nDreamRide\n\nAce and the Desert Dog\n\nIran: A Skier's Journey\n\nSea Gypsies\n\n Intermission \n\nMax Your Days\n\nThe Super Salmon*\n\nFast Forward\n\nYoung Guns*\n\n\n\n\n\nWednesday\, March 15\n\nDanny MacAskill's Wee Day Out\n\nDog Power\n\nRuin and Rose\n\nFour Mums in a Boat\n\n Intermission \n\nThe Accord*\n\nSHIFT*\n\nPoumaka\n\nMetronomic*\n\n\n\n* = award winner\n\n\n\nMore information about BANFF
X-ALT-DESC;FMTTYPE=text/html:The Banff Mountain Film Festival World Tour kicks off immediately following the Book and Film Festival held annually in November in Banff\, Alberta\, Canada. A selection of the top films submitted to the Festival go on a tour around the world with stops in about 450 communities and 40 countries. Films feature action-packed adventure\, high- adrenaline sports and fascinating culture that keep you on the edge of your seat. &nbsp\;Year after year\, this show sells out and now the popular film festival is returning to the Music Hall for two nights!<br />\n<br />\nEach night will feature different films.<br />\n<br />\n<strong>Tuesday\, March 14</strong><br />\nDreamRide<br />\nAce and the Desert Dog<br />\nIran: A Skier&rsquo\;s Journey<br />\nSea Gypsies<br />\n&ndash\;Intermission&ndash\;<br />\nMax Your Days<br />\nThe Super Salmon*<br />\nFast Forward<br />\nYoung Guns*<br />\n<br />\n<br />\n<strong>Wednesday\, March 15</strong><br />\nDanny MacAskill&rsquo\;s Wee Day Out<br />\nDog Power<br />\nRuin and Rose<br />\nFour Mums in a Boat<br />\n&ndash\;Intermission&ndash\;<br />\nThe Accord*<br />\nSHIFT*<br />\nPoumaka<br />\nMetronomic*<br />\n<br />\n* = award winner<br />\n<br />\n<a href="http://goodwinch.org/banff-film-festival-2017/">More information about BANFF</a>
LOCATION:The Historic Theater 28 Chestnut Street Portsmouth\, NH
UID:e.1659.30080
SEQUENCE:3
DTSTAMP:20260421T151749Z
URL:https://business.portsmouthchamber.org/events/details/the-music-hall-theater-presents-banff-mountain-film-festival-30080
END:VEVENT

END:VCALENDAR
