BEGIN:VCALENDAR
VERSION:2.0
PRODID:-//ChamberMaster//Event Calendar 2.0//EN
METHOD:PUBLISH
X-PUBLISHED-TTL:P3D
REFRESH-INTERVAL:P3D
CALSCALE:GREGORIAN
BEGIN:VEVENT
DTSTART;VALUE=DATE:20170309
DTEND;VALUE=DATE:20170310
TRANSP:TRANSPARENT
X-MICROSOFT-CDO-ALLDAYEVENT:TRUE
SUMMARY:The Music Hall Theater presents: Lion
DESCRIPTION:Nominated for 6 Oscars\, including Best Picture. Five-year-old Saroo gets lost on a train which takes him thousands of Kilometers across India\, away from home and family. Twenty-five years later\, armed with only a handful of memories\, his unwavering determination\, and a revolutionary technology known as Google Earth\, he sets out to find his lost family and finally return to his first home. With Dev Patel\, Rooney Mara and Nicole Kidman.
X-ALT-DESC;FMTTYPE=text/html:Nominated for 6 Oscars\, including Best Picture. Five-year-old Saroo gets lost on a train which takes him thousands of Kilometers across India\, away from home and family. Twenty-five years later\, armed with only a handful of memories\, his unwavering determination\, and a revolutionary technology known as Google Earth\, he sets out to find his lost family and finally return to his first home. With Dev Patel\, Rooney Mara and Nicole Kidman.
LOCATION:The Historic Theater 28 Chestnut Street\, Portsmouth
UID:e.1659.30062
SEQUENCE:3
DTSTAMP:20260421T151300Z
URL:https://business.portsmouthchamber.org/events/details/the-music-hall-theater-presents-lion-03-09-2017-30062
END:VEVENT

END:VCALENDAR
